Workbook

Sheet Directions
C2: Accompanying Model to the Technical Guide for the Construction and Analysis
C3: of State Unemployment Insurance Financing Structures
D6: Directions for Use of the State Tax Structure Model Tool
B8: This spreadsheet model was developed to assist state analysts in building or evaluating a state Unemployment Insurance Tax system. There are worksheets for each of the four steps
B9: in tax system construction described in Section A of the accompanying Technical Guide. There is also a worksheet that calculates an Adequate Financing Rate.
B11: Step | C11: Worksheet | E11: Directions
B12: Step 1 | C12: Step 1 Base Rate Calculator | D12: The user inputs the state name (which carries over to Steps 2 and 3), the year for which the base financing rate is to be calculated,
D13: and the number of years to be included in the long-run benefit cost rate (BCR). To convert the BCR from a percent of total wages
D14: to a percent of taxable wages, the user has the option of using the most recent ratio of taxable to total wages or specifying another
D15: value (e.g. if the user wants to test a change in the state's taxable wage base).
D17: The model calculates two benefit cost rates, one as a percent of total wages and the other as a percent of taxable wages.
B19: Step 2 | C19: Step 2-3 Avg Rate and Trig Calc | D19: The user inputs the Base Financing Rate, which may be the long-run benefit cost rate on taxable wages as determined in Step 1 or
D20: another value determined by the user. The user also inputs the trust fund balance target range (using the AHCM as a measure).
D22: The model triggers the Base Financing Rate when the AHCM falls within the target range. This is the starting point for developing a
D23: range of financing rates and triggers.
B25: Step 3 | C25: Step 2-3 Avg Rate and Trig Calc | D25: The user inputs the desired number of tax schedules or financing rates above and below the base and the AHCM triggers for the highest and
D26: lowest financing rates and chooses an option for calculating the range of financing rates. Under Option 1, the user inputs the desired
D27: minimum and maximum financing rates. Under Option 2, the user inputs the desired between-schedules responsiveness rates above and
D28: below the base. Under Option 3, the user inputs the desired gap-closing proportions for financing rates above and below the base.
D30: The model calculates equal-width trigger intervals based on the desired number of financing rates and the desired minimum and
D31: maximum triggers. Based on the selected option, the model calculates a range of financing rates. Under Option 1, the model
D32: calculates solvency add-ons with equal increments between the base schedule and the highest and lowest schedules. Under Option 2,
D33: Under Option 2, the model computes solvency add-ons such that the ratio of the change in revenues to the change in fund balance
D34: between schedules is constant across financing rates. Under Option 3, the model computes solvency add-ons such that the proportion
D35: of the trust fund gap closed by each schedule is the same. (See page 19 in the Guide for a discussion of these options.)
B37: Step 4 | C37: Step 4 Calc Employer Tax Rates | D37: The user inputs the financing rate (average tax rate) and the minimum and maximum tax rates for the base schedule, as well as
D38: desired financing rates for the lowest and highest schedules.
D40: The model first calculates a set of 20 tax rate adjustment factors to be applied to a 20-group array. The factors average to 100%. The resulting rates
D41: are adjusted if necessary so that the maximum rate is at least 5.4% and increments between rates do not exceed 0.9%. The final step is to
D42: proportionally increase or decrease the adjusted rates so they average to the desired average financing rate.
B44: Simulation | C44: Tax System Simulation | D44: The user inputs the beginning AHCM for the simulation and the average BCR on taxable wages to be simulated.
D46: The model simulates the operation of the tax system from Steps 2 and 3 and determines how many years it would take to reach
D47: the target balance under the chosen benefit scenario.
B49: AFR | C49: AFR Calculator | D49: The user inputs the state name, the year for which the AFR is to be calculated, the number of years of benefits to use, and the desired
D50: minimum and maximum AHCMs.
D52: The model computes the AFR, which can be compared to the state's average tax rate for the year.

Sheet Step 1 Base Rate Calculator
D1: DFAS Tax Structure Model Step 1
B2: Base Financing Rate Calculator
D5: This calculator derives the long-run average benefit cost rate in a state which is then used as the
D6: starting Base Financing Rate for building a UI tax structure.
C8: INPUTS: | H8: STATE:
H10: Year Of Base Financing Rate Calculation:
H12: Number of Years of Benefits to Use for Calculation:
L14: Taxable/Total Wage Ratio Option (1=Current Ratio, 2=User-estimated Ratio): | M14: 2
H15: User-estimated Ratio: | J15: 0.391
H17: Base Financing Rate: | J17: ='Base Rate Calculation'!I18 -> 0.0088028314 | K17: =" of Total Wages for "&'Base Rate Calculation'!I7 -> of Total Wages for 2016
J18: ='Base Rate Calculation'!I21 -> 0.0225 | K18: =" of Taxable Wages for "&'Base Rate Calculation'!I7 -> of Taxable Wages for 2016

Sheet Step 2-3 Avg Rate and Trig Calc
C1: DFAS Tax Structure Model Step 2 and Step 3
C4: Derivation of Total Financing Rates (Above and Below the Base Rate) and Their Triggers
C6: This tool allows a user to derive a series of tax table average tax rates (financing rates)
C7: above and below the Base Financing Rate that are based on the solvency level of the State's trust fund.
C8: Also, a corresponding set of solvency triggers that would activate the financing rates are derived.
C10: For State: | D10: ='Base Rate Calculation'!I6 -> CA
C12: INPUTS: | D12: Below | H12: Above
D13: Base | F13: Base | H13: Base
C14: Input Desired Tax Schedule Parameters | D14: Schedule | F14: Schedule | H14: Schedule
C16: Base Financing Rate (% of Taxable Wages): | F16: 0.0225 | I16: Long-run average Benefit Cost Rate to be funded.
C17: Solvency Level Target Range (AHCM, High-Low): | E17: 1.2 | F17: to | G17: 1 | I17: Target range for the trust fund balance.
C18: Desired Number of Tax Schedules: | D18: 1 | F18: =IF(OR(D18<1,D18>4,H18<1,H18>7),"ERROR","") | H18: 7 | I18: The number of schedules below the base schedule can range from 1 to 4. The number of schedules above the base schedule can range from 1 to 7.
C19: Triggers for Lowest/Highest Financing Rates (AHCM): | D19: 1.5 | H19: 0.25 | I19: The user sets the AHCMs to trigger the lowest and highest financing rates. The model calculates the intermediate trigger points. These parameters are only operative when there is more than one schedule below and/or above the base schedule. The lowest trigger cannot be negative.
D20: =IF(D19>2.5,"WARNING: THIS VALUE MAY BE TOO HIGH",IF(D19<=E17,"ERROR: THIS VALUE MUST BE HIGHER THAN THE BASE TRIGGER","")) | H20: =IF(H19<0,"WARNING: THIS VALUE MAY BE TOO LOW",IF(H19>1,"WARNING: THIS VALUE MAY BE TOO HIGH",IF((G17-H19)*10<(H18-1),"WARNING: TRIGGER MAY BE TOO CLOSE TO BASE SCHEDULE TRIGGER FOR THE NUMBER OF SCHEDULES CHOSEN","")))
C21: Methodology Used to Calculate Tax Schedule Parameters
C22: Select Calculation for Deriving Financing Rates (1- 3): | F22: 1 | G22: =IF(OR(F22<1,F22>3),"ERROR: INVALID OPTION","") | H22: =IF(AND(F22=1,H23<=$F$16),"ERROR: MAXIMUM FINANCING RATE MUST BE HIGHER THAN BASE FINANCING RATE","")
C23: (1 = Set Minimum and Maximum Financing Rates) | D23: 0.014 | H23: 0.034 | I23: In this option, the user sets the minimum and maximum financing rates and the model calculates intermediate financing rates with equal increments between rates. (See p. 19 in the Guide.)
C24: (2 = Set Responsiveness Rate Between Schedules) | D24: 0.6 | H24: 0.51 | I24: In this option, the user sets the responsiveness rate (change in revenues as a % of change in balance) and the model calculates the financing rates, including the minimum and maximum rates. (See p. 19 in the Guide.)
C25: (3 = Set Fixed Gap Closing Rate) | D25: 0.4 | H25: 0.51 | I25: In this option, the user sets the gap-closing percentage to be applied to all schedules. The model computes the financing rates. (See p. 19 in the Guide)
D26: =IF(AND(F22=1,D23>=$F$16),"ERROR: MINIMUM FINANCING RATE MUST BE LOWER THAN BASE FINANCING RATE","")
D30: =D58 | H30: Base
H31: Schedule
C32: Lower AHCM in Trigger Range | D32: =IF($D$18=4,$D$19,0) -> 0 | E32: =IF($D$18=3,$D$19,0) -> 0 | F32: =IF($D$18=2,$D$19,0) -> 0 | G32: =E17 -> 1.2 | H32: =G17 -> 1 | I32: =IF($H$18=2,$H$19,"") | J32: =IF($H$18=3,$H$19,"") | K32: =IF($H$18=4,$H$19,"") | L32: =IF($H$18=5,$H$19,"") | M32: =IF($H$18=6,$H$19,"") | N32: =IF($H$18=7,$H$19,"") -> 0.25
D33: =D32 -> 0 | E33: =IF($D32>0,$D32-($D32-$G32)*1/3,IF(E32>0,E32,0)) -> 0 | F33: =IF($D32>0,$D32-($D32-$G32)*2/3,IF(E32>0,E32-(E32-G32)/2,IF(F32>0,F32,0))) -> 0 | G33: =G32 -> 1.2 | H33: =H32 -> 1 | I33: =IF($N32<>"",$H32-($H32-$N32)*1/6,IF($M32<>"",$H32-($H32-$M32)*1/5,IF($L32<>"",$H32-($H32-$L32)*1/4,IF($K32<>"",$H32-($H32-$K32)*1/3,IF($J32<>"",$H32-($H32-$J32)*1/2,IF(I32<>"",I32,"")))))) -> 0.875 | J33: =IF($N32<>"",$H32-($H32-$N32)*2/6,IF($M32<>"",$H32-($H32-$M32)*2/5,IF($L32<>"",$H32-($H32-$L32)*2/4,IF($K32<>"",$H32-($H32-$K32)*2/3,IF(J32<>"",J32,""))))) -> 0.75 | K33: =IF($N32<>"",$H32-($H32-$N32)*3/6,IF($M32<>"",$H32-($H32-$M32)*3/5,IF($L32<>"",$H32-($H32-$L32)*3/4,IF(K32<>"",K32,"")))) -> 0.625 | L33: =IF($N32<>"",$H32-($H32-$N32)*4/6,IF(M32<>"",$H32-($H32-$M32)*4/5,IF(L32<>"",L32,""))) -> 0.5 | M33: =IF($N32<>"",$H32-($H32-$N32)*5/6,IF(M32<>"",M32,"")) -> 0.375 | N33: =IF(N32<>"",N32,"") -> 0.25
C35: min/max solvency add-on | D35: =IF($D$18=4,$D$23-$F$16,0) -> 0 | E35: =IF($D$18=3,$D$23-$F$16,0) -> 0 | F35: =IF($D$18=2,$D$23-$F$16,0) -> 0 | G35: =IF($D$18=1,$D$23-$F$16,0) -> -0.0085 | H35: 0 | I35: =IF($H$18=1,$H$23-$F$16,0) -> 0 | J35: =IF($H$18=2,$H$23-$F$16,0) -> 0 | K35: =IF($H$18=3,$H$23-$F$16,0) -> 0 | L35: =IF($H$18=4,$H$23-$F$16,0) -> 0 | M35: =IF($H$18=5,$H$23-$F$16,0) -> 0 | N35: =IF($H$18=6,$H$23-$F$16,0) -> 0 | O35: =IF($H$18=7,$H$23-$F$16,0) -> 0.0115
C36: Solvency Add-on -- Method 1 | D36: =D35 -> 0 | E36: =IF($D35=0,IF($E35=0,0,E35),D35+($H35-$D35)*1/4) -> 0 | F36: =IF($D35=0,IF($E35=0,IF($F35=0,0,F35),$E35+($H35-$E35)*1/3),$D35+($H35-$D35)*2/4) -> 0 | G36: =IF($D35=0,IF($E35=0,IF($F35=0,G35,$F35+($H35-$F35)*1/2),$E35+($H35-$E35)*2/3),$D35+($H35-$D35)*3/4) -> -0.0085 | H36: =H35 -> 0 | I36: =IF($O35>0,$H35-($H35-$O35)*1/7,IF($N35>0,$H35-($H35-$N35)*1/6,IF($M35>0,$H35-($H35-$M35)*1/5,IF($L35>0,$H35-($H35-$L35)*1/4,IF($K35>0,$H35-($H35-$K35)*1/3,IF($J35>0,$H35-($H35-$J35)*1/2,IF(I35>0,I35,""))))))) -> 0.0016428571 | J36: =IF($O35>0,$H35-($H35-$O35)*2/7,IF($N35>0,$H35-($H35-$N35)*2/6,IF($M35>0,$H35-($H35-$M35)*2/5,IF($L35>0,$H35-($H35-$L35)*2/4,IF($K35>0,$H35-($H35-$K35)*2/3,IF(J35>0,J35,"")))))) -> 0.0032857143 | K36: =IF($O35>0,$H35-($H35-$O35)*3/7,IF($N35>0,$H35-($H35-$N35)*3/6,IF($M35>0,$H35-($H35-$M35)*3/5,IF($L35>0,$H35-($H35-$L35)*3/4,IF(K35>0,K35,""))))) -> 0.0049285714 | L36: =IF($O35>0,$H35-($H35-$O35)*4/7,IF($N35>0,$H35-($H35-$N35)*4/6,IF($M35>0,$H35-($H35-$M35)*4/5,IF(L35>0,L35,"")))) -> 0.0065714286 | M36: =IF($O35>0,$H35-($H35-$O35)*5/7,IF(N35>0,$H35-($H35-$N35)*5/6,IF(M35>0,M35,""))) -> 0.0082142857 | N36: =IF($O35>0,$H35-($H35-$O35)*6/7,IF(N35>0,N35,"")) -> 0.0098571429 | O36: =IF(O35>0,O35,"") -> 0.0115
C38: Balance change between schedules (% of taxable wages) | D38: =IF($D$18=1,"",IF($D$18=2,"",IF($D$18=3,"",IF($D$18=4,D74,"ERROR")))) | E38: =IF($D$18=1,"",IF($D$18=2,"",IF($D$18=3,D74,IF($D$18=4,E74,"ERROR")))) | F38: =IF($D$18=1,"",IF($D$18=2,D74,IF($D$18=3,E74,IF($D$18=4,F74,"ERROR")))) | G38: =IF($D$18=1,D74,IF($D$18=2,E74,IF($D$18=3,F74,IF($D$18=4,G74,"ERROR")))) -> 0.0076726343 | H38: 0 | I38: =IF($D$18=1,F74,IF($D$18=2,G74,IF($D$18=3,H74,IF($D$18=4,I74,"ERROR")))) -> -0.0062659847 | J38: =IF($D$18=1,G74,IF($D$18=2,H74,IF($D$18=3,I74,IF($D$18=4,J74,"ERROR")))) -> -0.0047314578 | K38: =IF($D$18=1,H74,IF($D$18=2,I74,IF($D$18=3,J74,IF($D$18=4,K74,"ERROR")))) -> -0.0047314578 | L38: =IF($D$18=1,I74,IF($D$18=2,J74,IF($D$18=3,K74,IF($D$18=4,L74,"ERROR")))) -> -0.004859335 | M38: =IF($D$18=1,J74,IF($D$18=2,K74,IF($D$18=3,L74,IF($D$18=4,M74,"ERROR")))) -> -0.004859335 | N38: =IF($D$18=1,K74,IF($D$18=2,L74,IF($D$18=3,M74,IF($D$18=4,N74,"ERROR")))) -> -0.0047314578 | O38: =IF($D$18=1,L74,IF($D$18=2,M74,IF($D$18=3,N74,IF($D$18=4,O74,"ERROR")))) -> -0.0046035806
C39: Solvency Add-on -- Method 2 | D39: =-D38*$D$24+E39 -> #VALUE! | E39: =-E38*$D$24+F39 -> #VALUE! | F39: =-F38*$D$24+G39 -> #VALUE! | G39: =-G38*$D$24+H39 -> -0.0046035806 | H39: 0 | I39: =-I38*$H$24+H39 -> 0.0031956522 | J39: =-J38*$H$24+I39 -> 0.0056086957 | K39: =-K38*$H$24+J39 -> 0.0080217391 | L39: =-L38*$H$24+K39 -> 0.0105 | M39: =-M38*$H$24+L39 -> 0.012978261 | N39: =-N38*$H$24+M39 -> 0.015391304 | O39: =-O38*$H$24+N39 -> 0.01773913
C41: Gap Between Current and Target Balance (% of taxable wages) | D41: =IF($D$18=1,"",IF($D$18=2,"",IF($D$18=3,"",IF($D$18=4,D78,"ERROR")))) | E41: =IF($D$18=1,"",IF($D$18=2,"",IF($D$18=3,D78,IF($D$18=4,E78,"ERROR")))) | F41: =IF($D$18=1,"",IF($D$18=2,D78,IF($D$18=3,E78,IF($D$18=4,F78,"ERROR")))) | G41: =IF($D$18=1,D78,IF($D$18=2,E78,IF($D$18=3,F78,IF($D$18=4,G78,"ERROR")))) -> -0.0076726343 | H41: 0 | I41: =IF($D$18=1,F78,IF($D$18=2,G78,IF($D$18=3,H78,IF($D$18=4,I78,"ERROR")))) -> 0.0062659847 | J41: =IF($D$18=1,G78,IF($D$18=2,H78,IF($D$18=3,I78,IF($D$18=4,J78,"ERROR")))) -> 0.010997442 | K41: =IF($D$18=1,H78,IF($D$18=2,I78,IF($D$18=3,J78,IF($D$18=4,K78,"ERROR")))) -> 0.0157289 | L41: =IF($D$18=1,I78,IF($D$18=2,J78,IF($D$18=3,K78,IF($D$18=4,L78,"ERROR")))) -> 0.020588235 | M41: =IF($D$18=1,J78,IF($D$18=2,K78,IF($D$18=3,L78,IF($D$18=4,M78,"ERROR")))) -> 0.02544757 | N41: =IF($D$18=1,K78,IF($D$18=2,L78,IF($D$18=3,M78,IF($D$18=4,N78,"ERROR")))) -> 0.030179028 | O41: =IF($D$18=1,L78,IF($D$18=2,M78,IF($D$18=3,N78,IF($D$18=4,O78,"ERROR")))) -> 0.034782609
C42: Solvency Add-on -- Method 3 | D42: =D41*$D$25 -> #VALUE! | E42: =E41*$D$25 -> #VALUE! | F42: =F41*$D$25 -> #VALUE! | G42: =G41*$D$25 -> -0.0030690537 | H42: 0 | I42: =I41*$H$25 -> 0.0031956522 | J42: =J41*$H$25 -> 0.0056086957 | K42: =K41*$H$25 -> 0.0080217391 | L42: =L41*$H$25 -> 0.0105 | M42: =M41*$H$25 -> 0.012978261 | N42: =N41*$H$25 -> 0.015391304 | O42: =O41*$H$25 -> 0.01773913
Q43: =E17-D19 -> -0.3 | R43: =G17-H19 -> 0.75 | S43: differences between base trigger and max/min trigger
C44: Gap Closing Percentages | D44: =IF($D$18<4,"",IF($D$18=4,D45/D41,"ERROR")) | E44: =IF($D$18<3,"",IF($D$18=3,E45/E41,IF($D$18=4,$G44-($G44-D44)*2/3,"ERROR"))) | F44: =IF($D$18=2,F45/F41,IF($D$18=3,$G44-($G44-E44)*1/2,IF($D$18=4,$G44-($G44-D44)*1/3,"ERROR"))) -> ERROR | G44: =IF($D$18=1,50%,IF($D$18=2,50%+(50%-F44),IF($D$18=3,50%+(50%-E44),IF($D$18=4,50%+(50%-D44),"ERROR")))) -> 0.5 | I44: =IF($H$18<1,"",IF($H$18=1,50%,IF($H$18=2,50%+(50%-J44),IF($H$18=3,50%+(50%-K44),IF($H$18=4,50%+(50%-L44),IF($H$18=5,50%+(50%-M44),IF($H$18=6,50%+(50%-N44),IF($H$18=7,50%+(50%-O44),"""ERROR")))))))) -> 0.66911765 | J44: =IF($H$18<2,"",IF($H$18=2,J45/J41,IF($H$18=3,$I44-($I44-K44)*1/2,IF($H$18=4,$I44-($I44-L44)*1/3,IF($H$18=5,$I44-($I44-M44)*1/4,IF($H$18=6,$I44-($I44-N44)*1/5,IF($H$18=7,$I44-($I44-O44)*1/6,"ERROR"))))))) -> 0.6127451 | K44: =IF($H$18<3,"",IF($H$18=3,K45/K41,IF($H$18=4,$I44-($I44-L44)*2/3,IF($H$18=5,$I44-($I44-M44)*2/4,IF($H$18=6,$I44-($I44-N44)*2/5,IF($H$18=7,$I44-($I44-O44)*2/6,"ERROR")))))) -> 0.55637255 | L44: =IF($H$18<4,"",IF($H$18=4,L45/L41,IF($H$18=5,$I44-($I44-M44)*3/4,IF($H$18=6,$I44-($I44-N44)*3/5,IF($H$18=7,$I44-($I44-O44)*3/6,"ERROR"))))) -> 0.5 | M44: =IF($H$18<5,"",IF($H$18=5,M45/M41,IF($H$18=6,$I44-($I44-N44)*4/5,IF($H$18=7,$I44-($I44-O44)*4/6,"ERROR")))) -> 0.44362745 | N44: =IF($H$18<6,"",IF($H$18=6,N45/N41,IF($H$18=7,$I44-($I44-O44)*5/6,"ERROR"))) -> 0.3872549 | O44: =IF($H$18<7,"",IF($H$18=7,O45/O41,IF($H$18>7,"ERROR,""ERROR"))) -> 0.33088235 | Q44: =(-0.57%+(Q43+1)*0.47%)/'Base Rate Calculation'!I25 -> -0.0061636829 | R44: =(0.57%+(R43-1)*0.48%)/'Base Rate Calculation'!I25 -> 0.011508951 | S44: min/max add-on at 50% avg gap closing
C45: Solvency Add-on -- Method 4 (inoperative) | D45: =IF($D$18=4,$Q$45,D41*D44) -> #VALUE! | E45: =IF($D$18=3,$Q$45,E41*E44) -> #VALUE! | F45: =IF($D$18=2,$Q$45,F41*F44) -> #VALUE! | G45: =G41*G44 -> -0.0038363171 | H45: 0 | I45: =I41*I44 -> 0.0041926809 | J45: =IF($H$18=2,$R$45,J41*J44) -> 0.006738629 | K45: =IF($H$18=3,$R$45,K41*K44) -> 0.0087511283 | L45: =IF($H$18=4,$R$45,L41*L44) -> 0.010294118 | M45: =IF($H$18=5,$R$45,M41*M44) -> 0.011289241 | N45: =IF($H$18=6,$R$45,N41*N44) -> 0.011686977 | O45: =IF($H$18=7,$R$45,"") -> 0.011508951 | Q45: =Q44 -> -0.0061636829 | R45: =R44 -> 0.011508951 | S45: final min/max add-on
C46: add-on increment | D46: =D45-E45 -> #VALUE! | E46: =E45-F45 -> #VALUE! | F46: =F45-G45 -> #VALUE! | G46: =G45-H45 -> -0.0038363171 | I46: =I45-H45 -> 0.0041926809 | J46: =J45-I45 -> 0.002545948 | K46: =K45-J45 -> 0.0020124994 | L46: =L45-K45 -> 0.0015429893 | M46: =M45-L45 -> 0.00099512311 | N46: =N45-M45 -> 0.00039773582 | O46: =O45-N45 -> -0.00017802517
C48: Final solvency add-on | D48: =IF($F$22=1,ROUND(D36,4),IF($F$22=2,ROUND(D39,4),IF($F$22=3,ROUND(D42,4),"ERROR"))) -> 0 | E48: =IF($F$22=1,ROUND(E36,4),IF($F$22=2,ROUND(E39,4),IF($F$22=3,ROUND(E42,4),"ERROR"))) -> 0 | F48: =IF($F$22=1,ROUND(F36,4),IF($F$22=2,ROUND(F39,4),IF($F$22=3,ROUND(F42,4),"ERROR"))) -> 0 | G48: =IF($F$22=1,ROUND(G36,4),IF($F$22=2,ROUND(G39,4),IF($F$22=3,ROUND(G42,4),"ERROR"))) -> -0.0085 | H48: 0 | I48: =IF($F$22=1,ROUND(I36,4),IF($F$22=2,ROUND(I39,4),IF($F$22=3,ROUND(I42,4),"ERROR"))) -> 0.0016 | J48: =IF($F$22=1,ROUND(J36,4),IF($F$22=2,ROUND(J39,4),IF($F$22=3,ROUND(J42,4),"ERROR"))) -> 0.0033 | K48: =IF($F$22=1,ROUND(K36,4),IF($F$22=2,ROUND(K39,4),IF($F$22=3,ROUND(K42,4),"ERROR"))) -> 0.0049 | L48: =IF($F$22=1,ROUND(L36,4),IF($F$22=2,ROUND(L39,4),IF($F$22=3,ROUND(L42,4),"ERROR"))) -> 0.0066 | M48: =IF($F$22=1,ROUND(M36,4),IF($F$22=2,ROUND(M39,4),IF($F$22=3,ROUND(M42,4),"ERROR"))) -> 0.0082 | N48: =IF($F$22=1,ROUND(N36,4),IF($F$22=2,ROUND(N39,4),IF($F$22=3,ROUND(N42,4),"ERROR"))) -> 0.0099 | O48: =IF($F$22=1,ROUND(O36,4),IF($F$22=2,ROUND(O39,4),IF($F$22=3,ROUND(O42,4),"ERROR"))) -> 0.0115
C49: add-on increment | D49: =D48-E48 -> 0 | E49: =E48-F48 -> 0 | F49: =F48-G48 -> 0.0085 | G49: =G48-H48 -> -0.0085 | I49: =I48-H48 -> 0.0016 | J49: =J48-I48 -> 0.0017 | K49: =K48-J48 -> 0.0016 | L49: =L48-K48 -> 0.0017 | M49: =M48-L48 -> 0.0016 | N49: =N48-M48 -> 0.0017 | O49: =O48-N48 -> 0.0016
C52: OUTPUT
D53: State: | G53: ='Base Rate Calculation'!I6 -> CA | H53: Base Financing Rate: | K53: =+F16 -> 0.0225 | L53: (% of taxable wages)
D54: No. of Tax Schedules: | G54: =+D18+H18+1 -> 9 | H54: State Avg. High Cost Rate: | K54: ='Base Rate Calculation'!I28 -> 0.015 | L54: (% of total wages)
F57: Tax Table
...

Sheet Step 4 Calc Employer Tax Rates
C1: DFAS Tax Structure Model Step 4
C4: Calculation of Employer Tax Rates
C5: This tool allows a user to derive a set of individual tax rates for groups of employers based on
C6: inputting a minimum tax rate, a maximum tax rate and the desired average level of financing for the set of rates.
C7: This derivation is based on deriving a set of adjustment factors that are multiplied by the financing rate (average tax rate)
C8: to compute the individual group rates.
C10: Inputs | E10: Lowest | F10: Highest | P10: % of | Q10: 100% range | W10: Tax Rate | Y10: Employer Tax Rates | AK10: Employer Tax Rates
D11: Base | E11: Schedule | F11: Schedule | O11: Tax Rate | P11: Taxable | Q11: lower | R11: upper | S11: 1 | T11: prelim | W11: Adjustment | Y11: Lowest | Z11: Base | AA11: Highest | AK11: Lowest | AL11: Base | AM11: Highest
D12: Schedule | E12: (Lowest Tax Rates) | F12: (Highest Tax Rates) | O12: Interval | P12: Wages | Q12: limit | R12: limit | S12: group | T12: factor | U12: adj | V12: rounded | W12: Factor | X12: increm. | Y12: Schedule | Z12: Schedule | AA12: Schedule | AK12: Schedule | AL12: Schedule | AM12: Schedule | AS12: check increments
C13: Minimum Tax Rate (% of Taxable Wages) | D13: 0.005 | O13: 1 | P13: 0.05 | T13: =Z13/D15 -> 0.22123894 | U13: =T13 -> 0.22123894 | V13: =ROUND(U13,2) -> 0.22 | W13: =V13 -> 0.22 | Y13: =MAX(ROUND($W13*Y$34,4),Y14-$Y$38) -> 0.0042 | Z13: =D13 -> 0.005 | AA13: =MAX(ROUND($W13*AA$34,4),AA14-$Y$38) -> 0.0072 | AC13: =$P13*Y13 -> 0.00021 | AD13: =$P13*Z13 -> 0.00025 | AE13: =$P13*AA13 -> 0.00036 | AG13: =IF(Y14-Y13<$Y$38,1,0) -> 1 | AH13: =IF(Z14-Z13<$Y$38,1,0) -> 1 | AI13: =IF(AA14-AA13<$Y$38,1,0) -> 1 | AK13: =IF(AND(Y$35>Y$34,AG13=1),MAX(ROUND(Y13*(AG$37/AG$35),4),MIN($AK$38,$D$13)),Y13) -> 0.004 | AL13: =D13 -> 0.005 | AM13: =IF(AND(AA$35>AA$34,AI13=1),MAX(ROUND(AA13*(AI$37/AI$35),4),$D$13),AA13) -> 0.0072 | AO13: =$P13*AK13 -> 0.0002 | AP13: =$P13*AL13 -> 0.00025 | AQ13: =$P13*AM13 -> 0.00036
C14: Maximum Tax Rate (% of Taxable Wages) | D14: 0.054 | O14: 2 | P14: 0.05 | Q14: 1.635 | R14: 1.7 | S14: =IF($K$29<Q14,0,IF($K$29<=R14,100%,0)) -> 0 | T14: =IF(S14=100%,S14,IF(T13<100%,T13+M$34,T13+M$35)) -> 0.2920354 | U14: =IF(T14=100%,T14,T14+K$32) -> 0.23672566 | V14: =IF(U14=100%,U14,MAX(ROUND(U14,2),V13+1%)) -> 0.24 | W14: =IF(V14=100%,V14,IF(V$35>2018%,V14-1%,IF(V$35<1982%,V14+1%,V14))) -> 0.24 | X14: =W14-W13 -> 0.02 | Y14: =MAX(ROUND($W14*Y$34,4),Y15-$Y$38) -> 0.0046 | Z14: =MAX(ROUND($W14*Z$34,4),Z15-$Y$38) -> 0.0054 | AA14: =MAX(ROUND($W14*AA$34,4),AA15-$Y$38) -> 0.0078 | AC14: =$P14*Y14 -> 0.00023 | AD14: =$P14*Z14 -> 0.00027 | AE14: =$P14*AA14 -> 0.00039 | AG14: =IF(Y15-Y14<$Y$38,1,0) -> 1 | AH14: =IF(Z15-Z14<$Y$38,1,0) -> 1 | AI14: =IF(AA15-AA14<$Y$38,1,0) -> 1 | AK14: =IF(AND(Y$35>Y$34,AG14=1),MAX(ROUND(Y14*(AG$37/AG$35),4),MIN($AK$38,$D$13)),Y14) -> 0.0044 | AL14: =IF(AND(Z$35>Z$34,AH14=1),MAX(ROUND(Z14*(AH$37/AH$35),4),$D$13),Z14) -> 0.0054 | AM14: =IF(AND(AA$35>AA$34,AI14=1),MAX(ROUND(AA14*(AI$37/AI$35),4),$D$13),AA14) -> 0.0078 | AO14: =$P14*AK14 -> 0.00022 | AP14: =$P14*AL14 -> 0.00027 | AQ14: =$P14*AM14 -> 0.00039 | AS14: =AK14-AK13 -> 0.0004 | AT14: =AL14-AL13 -> 0.0004 | AU14: =AM14-AM13 -> 0.0006
C15: Financing Rate (% of Taxable Wages) | D15: 0.0226 | E15: 0.0191 | F15: 0.0326 | O15: 3 | P15: 0.05 | Q15: 1.555 | R15: 1.675 | S15: =IF($K$29<Q15,0,IF($K$29<=R15,100%,0)) -> 0 | T15: =IF(S15=100%,S15,IF(T14<100%,T14+M$34,T14+M$35)) -> 0.36283186 | U15: =IF(T15=100%,T15,T15+K$32) -> 0.30752212 | V15: =IF(U15=100%,U15,MAX(ROUND(U15,2),V14+1%)) -> 0.31 | W15: =IF(V15=100%,V15,IF(V$35>2017%,V15-1%,IF(V$35<1983%,V15+1%,V15))) -> 0.31 | X15: =W15-W14 -> 0.07 | Y15: =MAX(ROUND($W15*Y$34,4),Y16-$Y$38) -> 0.0059 | Z15: =MAX(ROUND($W15*Z$34,4),Z16-$Y$38) -> 0.007 | AA15: =MAX(ROUND($W15*AA$34,4),AA16-$Y$38) -> 0.0101 | AC15: =$P15*Y15 -> 0.000295 | AD15: =$P15*Z15 -> 0.00035 | AE15: =$P15*AA15 -> 0.000505 | AG15: =IF(AND(Y16-Y15<$Y$38,AG14=1),1,0) -> 1 | AH15: =IF(AND(Z16-Z15<$Y$38,AH14=1),1,0) -> 1 | AI15: =IF(AND(AA16-AA15<$Y$38,AI14=1),1,0) -> 1 | AK15: =IF(AND(Y$35>Y$34,AG15=1),MAX(ROUND(Y15*(AG$37/AG$35),4),MIN($AK$38,$D$13)),Y15) -> 0.0057 | AL15: =IF(AND(Z$35>Z$34,AH15=1),MAX(ROUND(Z15*(AH$37/AH$35),4),$D$13),Z15) -> 0.007 | AM15: =IF(AND(AA$35>AA$34,AI15=1),MAX(ROUND(AA15*(AI$37/AI$35),4),$D$13),AA15) -> 0.0101 | AO15: =$P15*AK15 -> 0.000285 | AP15: =$P15*AL15 -> 0.00035 | AQ15: =$P15*AM15 -> 0.000505 | AS15: =AK15-AK14 -> 0.0013 | AT15: =AL15-AL14 -> 0.0016 | AU15: =AM15-AM14 -> 0.0023
C16: =IF(D14<5.4%,"ERROR: Maximum tax rate must equal or exceed 5.4%.","") | O16: 4 | P16: 0.05 | Q16: 1.475 | R16: 1.595 | S16: =IF($K$29<Q16,0,IF($K$29<=R16,100%,0)) -> 0 | T16: =IF(S16=100%,S16,IF(T15<100%,T15+M$34,T15+M$35)) -> 0.43362832 | U16: =IF(T16=100%,T16,T16+K$32) -> 0.37831858 | V16: =IF(U16=100%,U16,MAX(ROUND(U16,2),V15+1%)) -> 0.38 | W16: =IF(V16=100%,V16,IF(V$35>2016%,V16-1%,IF(V$35<1984%,V16+1%,V16))) -> 0.38 | X16: =W16-W15 -> 0.07 | Y16: =MAX(ROUND($W16*Y$34,4),Y17-$Y$38) -> 0.0073 | Z16: =MAX(ROUND($W16*Z$34,4),Z17-$Y$38) -> 0.0086 | AA16: =MAX(ROUND($W16*AA$34,4),AA17-$Y$38) -> 0.0124 | AC16: =$P16*Y16 -> 0.000365 | AD16: =$P16*Z16 -> 0.00043 | AE16: =$P16*AA16 -> 0.00062 | AG16: =IF(AND(Y17-Y16<$Y$38,AG15=1),1,0) -> 1 | AH16: =IF(AND(Z17-Z16<$Y$38,AH15=1),1,0) -> 1 | AI16: =IF(AND(AA17-AA16<$Y$38,AI15=1),1,0) -> 1 | AK16: =IF(AND(Y$35>Y$34,AG16=1),MAX(ROUND(Y16*(AG$37/AG$35),4),MIN($AK$38,$D$13)),Y16) -> 0.007 | AL16: =IF(AND(Z$35>Z$34,AH16=1),MAX(ROUND(Z16*(AH$37/AH$35),4),$D$13),Z16) -> 0.0086 | AM16: =IF(AND(AA$35>AA$34,AI16=1),MAX(ROUND(AA16*(AI$37/AI$35),4),$D$13),AA16) -> 0.0124 | AO16: =$P16*AK16 -> 0.00035 | AP16: =$P16*AL16 -> 0.00043 | AQ16: =$P16*AM16 -> 0.00062 | AS16: =AK16-AK15 -> 0.0013 | AT16: =AL16-AL15 -> 0.0016 | AU16: =AM16-AM15 -> 0.0023
C17: =IF(OR(Z32<Z31,AND(MIN(X14:X32)<0,D15/AVERAGE(D13:D15)>1),D15/AVERAGE(D13:D15)>R14),"ERROR: Maximum and/or minimum tax rates are too low for specified average tax rate.","") | O17: 5 | P17: 0.05 | Q17: 1.395 | R17: 1.505 | S17: =IF($K$29<Q17,0,IF($K$29<=R17,100%,0)) -> 0 | T17: =IF(S17=100%,S17,IF(T16<100%,T16+M$34,T16+M$35)) -> 0.50442478 | U17: =IF(T17=100%,T17,T17+K$32) -> 0.44911504 | V17: =IF(U17=100%,U17,MAX(ROUND(U17,2),V16+1%)) -> 0.45 | W17: =IF(V17=100%,V17,IF(V$35>2015%,V17-1%,IF(V$35<1985%,V17+1%,V17))) -> 0.45 | X17: =W17-W16 -> 0.07 | Y17: =MAX(ROUND($W17*Y$34,4),Y18-$Y$38) -> 0.0086 | Z17: =MAX(ROUND($W17*Z$34,4),Z18-$Y$38) -> 0.0102 | AA17: =MAX(ROUND($W17*AA$34,4),AA18-$Y$38) -> 0.0147 | AC17: =$P17*Y17 -> 0.00043 | AD17: =$P17*Z17 -> 0.00051 | AE17: =$P17*AA17 -> 0.000735 | AG17: =IF(AND(Y18-Y17<$Y$38,AG16=1),1,0) -> 1 | AH17: =IF(AND(Z18-Z17<$Y$38,AH16=1),1,0) -> 1 | AI17: =IF(AND(AA18-AA17<$Y$38,AI16=1),1,0) -> 1 | AK17: =IF(AND(Y$35>Y$34,AG17=1),MAX(ROUND(Y17*(AG$37/AG$35),4),MIN($AK$38,$D$13)),Y17) -> 0.0082 | AL17: =IF(AND(Z$35>Z$34,AH17=1),MAX(ROUND(Z17*(AH$37/AH$35),4),$D$13),Z17) -> 0.0102 | AM17: =IF(AND(AA$35>AA$34,AI17=1),MAX(ROUND(AA17*(AI$37/AI$35),4),$D$13),AA17) -> 0.0147 | AO17: =$P17*AK17 -> 0.00041 | AP17: =$P17*AL17 -> 0.00051 | AQ17: =$P17*AM17 -> 0.000735 | AS17: =AK17-AK16 -> 0.0012 | AT17: =AL17-AL16 -> 0.0016 | AU17: =AM17-AM16 -> 0.0023
C18: =IF(OR(Z14<Z13,AND(MIN(X14:X32)<0,D15/AVERAGE(D13:D15)<1),D15/AVERAGE(D13:D15)<Q30),"ERROR: Maximum and/or minimum tax rates are too high for specified average tax rate.","") | O18: 6 | P18: 0.05 | Q18: 1.305 | R18: 1.425 | S18: =IF($K$29<Q18,0,IF($K$29<=R18,100%,0)) -> 0 | T18: =IF(S18=100%,S18,IF(T17<100%,T17+M$34,T17+M$35)) -> 0.57522124 | U18: =IF(T18=100%,T18,T18+K$32) -> 0.5199115 | V18: =IF(U18=100%,U18,MAX(ROUND(U18,2),V17+1%)) -> 0.52 | W18: =IF(V18=100%,V18,IF(V$35>2014%,V18-1%,IF(V$35<1986%,V18+1%,V18))) -> 0.52 | X18: =W18-W17 -> 0.07 | Y18: =MAX(ROUND($W18*Y$34,4),Y19-$Y$38) -> 0.0099 | Z18: =MAX(ROUND($W18*Z$34,4),Z19-$Y$38) -> 0.0118 | AA18: =MAX(ROUND($W18*AA$34,4),AA19-$Y$38) -> 0.017 | AC18: =$P18*Y18 -> 0.000495 | AD18: =$P18*Z18 -> 0.00059 | AE18: =$P18*AA18 -> 0.00085 | AG18: =IF(AND(Y19-Y18<$Y$38,AG17=1),1,0) -> 1 | AH18: =IF(AND(Z19-Z18<$Y$38,AH17=1),1,0) -> 1 | AI18: =IF(AND(AA19-AA18<$Y$38,AI17=1),1,0) -> 1 | AK18: =IF(AND(Y$35>Y$34,AG18=1),MAX(ROUND(Y18*(AG$37/AG$35),4),MIN($AK$38,$D$13)),Y18) -> 0.0095 | AL18: =IF(AND(Z$35>Z$34,AH18=1),MAX(ROUND(Z18*(AH$37/AH$35),4),$D$13),Z18) -> 0.0118 | AM18: =IF(AND(AA$35>AA$34,AI18=1),MAX(ROUND(AA18*(AI$37/AI$35),4),$D$13),AA18) -> 0.017 | AO18: =$P18*AK18 -> 0.000475 | AP18: =$P18*AL18 -> 0.00059 | AQ18: =$P18*AM18 -> 0.00085 | AS18: =AK18-AK17 -> 0.0013 | AT18: =AL18-AL17 -> 0.0016 | AU18: =AM18-AM17 -> 0.0023
C19: =IF(OR(AS14>0.9%,AT14>0.9%,AU14>0.9%),"ERROR: MINIMUM RATE IS TOO LOW FOR AVERAGE RATE AND MAXIMUM RATE","") | O19: 7 | P19: 0.05 | Q19: 1.225 | R19: 1.345 | S19: =IF($K$29<Q19,0,IF($K$29<=R19,100%,0)) -> 0 | T19: =IF(S19=100%,S19,IF(T18<100%,T18+M$34,T18+M$35)) -> 0.6460177 | U19: =IF(T19=100%,T19,T19+K$32) -> 0.59070796 | V19: =IF(U19=100%,U19,MAX(ROUND(U19,2),V18+1%)) -> 0.59 | W19: =IF(V19=100%,V19,IF(V$35>2013%,V19-1%,IF(V$35<1987%,V19+1%,V19))) -> 0.59 | X19: =W19-W18 -> 0.07 | Y19: =MAX(ROUND($W19*Y$34,4),Y20-$Y$38) -> 0.0113 | Z19: =MAX(ROUND($W19*Z$34,4),Z20-$Y$38) -> 0.0133 | AA19: =MAX(ROUND($W19*AA$34,4),AA20-$Y$38) -> 0.0192 | AC19: =$P19*Y19 -> 0.000565 | AD19: =$P19*Z19 -> 0.000665 | AE19: =$P19*AA19 -> 0.00096 | AG19: =IF(AND(Y20-Y19<$Y$38,AG18=1),1,0) -> 1 | AH19: =IF(AND(Z20-Z19<$Y$38,AH18=1),1,0) -> 1 | AI19: =IF(AND(AA20-AA19<$Y$38,AI18=1),1,0) -> 1 | AK19: =IF(AND(Y$35>Y$34,AG19=1),MAX(ROUND(Y19*(AG$37/AG$35),4),MIN($AK$38,$D$13)),Y19) -> 0.0108 | AL19: =IF(AND(Z$35>Z$34,AH19=1),MAX(ROUND(Z19*(AH$37/AH$35),4),$D$13),Z19) -> 0.0133 | AM19: =IF(AND(AA$35>AA$34,AI19=1),MAX(ROUND(AA19*(AI$37/AI$35),4),$D$13),AA19) -> 0.0192 | AO19: =$P19*AK19 -> 0.00054 | AP19: =$P19*AL19 -> 0.000665 | AQ19: =$P19*AM19 -> 0.00096 | AS19: =AK19-AK18 -> 0.0013 | AT19: =AL19-AL18 -> 0.0015 | AU19: =AM19-AM18 -> 0.0022
O20: 8 | P20: 0.05 | Q20: 1.145 | R20: 1.265 | S20: =IF($K$29<Q20,0,IF($K$29<=R20,100%,0)) -> 0 | T20: =IF(S20=100%,S20,IF(T19<100%,T19+M$34,T19+M$35)) -> 0.71681416 | U20: =IF(T20=100%,T20,T20+K$32) -> 0.66150442 | V20: =IF(U20=100%,U20,MAX(ROUND(U20,2),V19+1%)) -> 0.66 | W20: =IF(V20=100%,V20,IF(V$35>2012%,V20-1%,IF(V$35<1988%,V20+1%,V20))) -> 0.66 | X20: =W20-W19 -> 0.07 | Y20: =MAX(ROUND($W20*Y$34,4),Y21-$Y$38) -> 0.0126 | Z20: =MAX(ROUND($W20*Z$34,4),Z21-$Y$38) -> 0.0149 | AA20: =MAX(ROUND($W20*AA$34,4),AA21-$Y$38) -> 0.0215 | AC20: =$P20*Y20 -> 0.00063 | AD20: =$P20*Z20 -> 0.000745 | AE20: =$P20*AA20 -> 0.001075 | AG20: =IF(AND(Y21-Y20<$Y$38,AG19=1),1,0) -> 1 | AH20: =IF(AND(Z21-Z20<$Y$38,AH19=1),1,0) -> 1 | AI20: =IF(AND(AA21-AA20<$Y$38,AI19=1),1,0) -> 1 | AK20: =IF(AND(Y$35>Y$34,AG20=1),MAX(ROUND(Y20*(AG$37/AG$35),4),MIN($AK$38,$D$13)),Y20) -> 0.0121 | AL20: =IF(AND(Z$35>Z$34,AH20=1),MAX(ROUND(Z20*(AH$37/AH$35),4),$D$13),Z20) -> 0.0149 | AM20: =IF(AND(AA$35>AA$34,AI20=1),MAX(ROUND(AA20*(AI$37/AI$35),4),$D$13),AA20) -> 0.0215 | AO20: =$P20*AK20 -> 0.000605 | AP20: =$P20*AL20 -> 0.000745 | AQ20: =$P20*AM20 -> 0.001075 | AS20: =AK20-AK19 -> 0.0013 | AT20: =AL20-AL19 -> 0.0016 | AU20: =AM20-AM19 -> 0.0023
O21: 9 | P21: 0.05 | Q21: 1.065 | R21: 1.185 | S21: =IF($K$29<Q21,0,IF($K$29<=R21,100%,0)) -> 0 | T21: =IF(S21=100%,S21,IF(T20<100%,T20+M$34,T20+M$35)) -> 0.78761062 | U21: =IF(T21=100%,T21,T21+K$32) -> 0.73230088 | V21: =IF(U21=100%,U21,MAX(ROUND(U21,2),V20+1%)) -> 0.73 | W21: =IF(V21=100%,V21,IF(V$35>2011%,V21-1%,IF(V$35<1989%,V21+1%,V21))) -> 0.73 | X21: =W21-W20 -> 0.07 | Y21: =MAX(ROUND($W21*Y$34,4),Y22-$Y$38) -> 0.0139 | Z21: =MAX(ROUND($W21*Z$34,4),Z22-$Y$38) -> 0.0165 | AA21: =MAX(ROUND($W21*AA$34,4),AA22-$Y$38) -> 0.0238 | AC21: =$P21*Y21 -> 0.000695 | AD21: =$P21*Z21 -> 0.000825 | AE21: =$P21*AA21 -> 0.00119 | AG21: =IF(AND(Y22-Y21<$Y$38,AG20=1),1,0) -> 1 | AH21: =IF(AND(Z22-Z21<$Y$38,AH20=1),1,0) -> 1 | AI21: =IF(AND(AA22-AA21<$Y$38,AI20=1),1,0) -> 1 | AK21: =IF(AND(Y$35>Y$34,AG21=1),MAX(ROUND(Y21*(AG$37/AG$35),4),MIN($AK$38,$D$13)),Y21) -> 0.0133 | AL21: =IF(AND(Z$35>Z$34,AH21=1),MAX(ROUND(Z21*(AH$37/AH$35),4),$D$13),Z21) -> 0.0165 | AM21: =IF(AND(AA$35>AA$34,AI21=1),MAX(ROUND(AA21*(AI$37/AI$35),4),$D$13),AA21) -> 0.0238 | AO21: =$P21*AK21 -> 0.000665 | AP21: =$P21*AL21 -> 0.000825 | AQ21: =$P21*AM21 -> 0.00119 | AS21: =AK21-AK20 -> 0.0012 | AT21: =AL21-AL20 -> 0.0016 | AU21: =AM21-AM20 -> 0.0023
O22: 10 | P22: 0.05 | Q22: 0.975 | R22: 1.105 | S22: =IF($K$29<Q22,0,IF($K$29<=R22,100%,0)) -> 0 | T22: =IF(S22=100%,S22,IF(T21<100%,T21+M$34,T21+M$35)) -> 0.85840708 | U22: =IF(T22=100%,T22,T22+K$32) -> 0.80309735 | V22: =IF(U22=100%,U22,MAX(ROUND(U22,2),V21+1%)) -> 0.8 | W22: =IF(V22=100%,V22,IF(V$35>2010%,V22-1%,IF(V$35<1990%,V22+1%,V22))) -> 0.8 | X22: =W22-W21 -> 0.07 | Y22: =MAX(ROUND($W22*Y$34,4),Y23-$Y$38) -> 0.0153 | Z22: =MAX(ROUND($W22*Z$34,4),Z23-$Y$38) -> 0.0181 | AA22: =MAX(ROUND($W22*AA$34,4),AA23-$Y$38) -> 0.0261 | AC22: =$P22*Y22 -> 0.000765 | AD22: =$P22*Z22 -> 0.000905 | AE22: =$P22*AA22 -> 0.001305 | AG22: =IF(AND(Y23-Y22<$Y$38,AG21=1),1,0) -> 1 | AH22: =IF(AND(Z23-Z22<$Y$38,AH21=1),1,0) -> 1 | AI22: =IF(AND(AA23-AA22<$Y$38,AI21=1),1,0) -> 1 | AK22: =IF(AND(Y$35>Y$34,AG22=1),MAX(ROUND(Y22*(AG$37/AG$35),4),MIN($AK$38,$D$13)),Y22) -> 0.0147 | AL22: =IF(AND(Z$35>Z$34,AH22=1),MAX(ROUND(Z22*(AH$37/AH$35),4),$D$13),Z22) -> 0.0181 | AM22: =IF(AND(AA$35>AA$34,AI22=1),MAX(ROUND(AA22*(AI$37/AI$35),4),$D$13),AA22) -> 0.0261 | AO22: =$P22*AK22 -> 0.000735 | AP22: =$P22*AL22 -> 0.000905 | AQ22: =$P22*AM22 -> 0.001305 | AS22: =AK22-AK21 -> 0.0014 | AT22: =AL22-AL21 -> 0.0016 | AU22: =AM22-AM21 -> 0.0023
O23: 11 | P23: 0.05 | Q23: 0.895 | R23: 1.025 | S23: =IF($K$29<Q23,0,IF($K$29<=R23,100%,0)) -> 0 | T23: =IF(S23=100%,S23,IF(T22<100%,T22+M$34,T22+M$35)) -> 0.92920354 | U23: =IF(T23=100%,T23,T23+K$32) -> 0.87389381 | V23: =IF(U23=100%,U23,MIN(ROUND(U23,2),V24-1%)) -> 0.87 | W23: =IF(V23=100%,V23,IF(V$35>2009%,V23-1%,IF(V$35<1991%,V23+1%,V23))) -> 0.87 | X23: =W23-W22 -> 0.07 | Y23: =MAX(ROUND($W23*Y$34,4),Y24-$Y$38) -> 0.0166 | Z23: =MAX(ROUND($W23*Z$34,4),Z24-$Y$38) -> 0.0197 | AA23: =MAX(ROUND($W23*AA$34,4),AA24-$Y$38) -> 0.0284 | AC23: =$P23*Y23 -> 0.00083 | AD23: =$P23*Z23 -> 0.000985 | AE23: =$P23*AA23 -> 0.00142 | AG23: =IF(AND(Y24-Y23<$Y$38,AG22=1),1,0) -> 1 | AH23: =IF(AND(Z24-Z23<$Y$38,AH22=1),1,0) -> 1 | AI23: =IF(AND(AA24-AA23<$Y$38,AI22=1),1,0) -> 1 | AK23: =IF(AND(Y$35>Y$34,AG23=1),MAX(ROUND(Y23*(AG$37/AG$35),4),MIN($AK$38,$D$13)),Y23) -> 0.0159 | AL23: =IF(AND(Z$35>Z$34,AH23=1),MAX(ROUND(Z23*(AH$37/AH$35),4),$D$13),Z23) -> 0.0197 | AM23: =IF(AND(AA$35>AA$34,AI23=1),MAX(ROUND(AA23*(AI$37/AI$35),4),$D$13),AA23) -> 0.0284 | AO23: =$P23*AK23 -> 0.000795 | AP23: =$P23*AL23 -> 0.000985 | AQ23: =$P23*AM23 -> 0.00142 | AS23: =AK23-AK22 -> 0.0012 | AT23: =AL23-AL22 -> 0.0016 | AU23: =AM23-AM22 -> 0.0023
O24: 12 | P24: 0.05 | Q24: 0.815 | R24: 0.935 | S24: =IF($K$29<Q24,0,IF($K$29<=R24,100%,0)) -> 1 | T24: =IF(S24=100%,S24,IF(T23<100%,T23+M$34,T23+M$35)) -> 1 | U24: =IF(T24=100%,T24,T24+K$32) -> 1 | V24: =IF(U24=100%,U24,MIN(ROUND(U24,2),V25-1%)) -> 1 | W24: =IF(V24=100%,V24,IF(V$35>2008%,V24-1%,IF(V$35<1992%,V24+1%,V24))) -> 1 | X24: =W24-W23 -> 0.13 | Y24: =MAX(ROUND($W24*Y$34,4),Y25-$Y$38) -> 0.0191 | Z24: =MAX(ROUND($W24*Z$34,4),Z25-$Y$38) -> 0.0226 | AA24: =MAX(ROUND($W24*AA$34,4),AA25-$Y$38) -> 0.0326 | AC24: =$P24*Y24 -> 0.000955 | AD24: =$P24*Z24 -> 0.00113 | AE24: =$P24*AA24 -> 0.00163 | AG24: =IF(AND(Y25-Y24<$Y$38,AG23=1),1,0) -> 1 | AH24: =IF(AND(Z25-Z24<$Y$38,AH23=1),1,0) -> 1 | AI24: =IF(AND(AA25-AA24<$Y$38,AI23=1),1,0) -> 1 | AK24: =IF(AND(Y$35>Y$34,AG24=1),MAX(ROUND(Y24*(AG$37/AG$35),4),MIN($AK$38,$D$13)),Y24) -> 0.0183 | AL24: =IF(AND(Z$35>Z$34,AH24=1),MAX(ROUND(Z24*(AH$37/AH$35),4),$D$13),Z24) -> 0.0226 | AM24: =IF(AND(AA$35>AA$34,AI24=1),MAX(ROUND(AA24*(AI$37/AI$35),4),$D$13),AA24) -> 0.0326 | AO24: =$P24*AK24 -> 0.000915 | AP24: =$P24*AL24 -> 0.00113 | AQ24: =$P24*AM24 -> 0.00163 | AS24: =AK24-AK23 -> 0.0024 | AT24: =AL24-AL23 -> 0.0029 | AU24: =AM24-AM23 -> 0.0042
O25: 13 | P25: 0.05 | Q25: 0.725 | R25: 0.855 | S25: =IF($K$29<Q25,0,IF($K$29<=R25,100%,0)) -> 1 | T25: =IF(S25=100%,S25,IF(T24<100%,T24+M$34,T24+M$35)) -> 1 | U25: =IF(T25=100%,T25,T25+K$32) -> 1 | V25: =IF(U25=100%,U25,MIN(ROUND(U25,2),V26-1%)) -> 1 | W25: =IF(V25=100%,V25,IF(V$35>2007%,V25-1%,IF(V$35<1993%,V25+1%,V25))) -> 1 | X25: =W25-W24 -> 0 | Y25: =MAX(ROUND($W25*Y$34,4),Y26-$Y$38) -> 0.0191 | Z25: =MAX(ROUND($W25*Z$34,4),Z26-$Y$38) -> 0.0226 | AA25: =MAX(ROUND($W25*AA$34,4),AA26-$Y$38) -> 0.0326 | AC25: =$P25*Y25 -> 0.000955 | AD25: =$P25*Z25 -> 0.00113 | AE25: =$P25*AA25 -> 0.00163 | AG25: =IF(AND(Y26-Y25<$Y$38,AG24=1),1,0) -> 1 | AH25: =IF(AND(Z26-Z25<$Y$38,AH24=1),1,0) -> 1 | AI25: =IF(AND(AA26-AA25<$Y$38,AI24=1),1,0) -> 1 | AK25: =IF(AND(Y$35>Y$34,AG25=1),MAX(ROUND(Y25*(AG$37/AG$35),4),MIN($AK$38,$D$13)),Y25) -> 0.0183 | AL25: =IF(AND(Z$35>Z$34,AH25=1),MAX(ROUND(Z25*(AH$37/AH$35),4),$D$13),Z25) -> 0.0226 | AM25: =IF(AND(AA$35>AA$34,AI25=1),MAX(ROUND(AA25*(AI$37/AI$35),4),$D$13),AA25) -> 0.0326 | AO25: =$P25*AK25 -> 0.000915 | AP25: =$P25*AL25 -> 0.00113 | AQ25: =$P25*AM25 -> 0.00163 | AS25: =AK25-AK24 -> 0 | AT25: =AL25-AL24 -> 0 | AU25: =AM25-AM24 -> 0
O26: 14 | P26: 0.05 | Q26: 0.655 | R26: 0.765 | S26: =IF($K$29<Q26,0,IF($K$29<=R26,100%,0)) -> 0 | T26: =IF(S26=100%,S26,IF(T25<100%,T25+M$34,T25+M$35)) -> 1.1984829 | U26: =IF(T26=100%,T26,T26+K$32) -> 1.1431732 | V26: =IF(U26=100%,U26,MIN(ROUND(U26,2),V27-1%)) -> 1.14 | W26: =IF(V26=100%,V26,IF(V$35>2006%,V26-1%,IF(V$35<1994%,V26+1%,V26))) -> 1.14 | X26: =W26-W25 -> 0.14 | Y26: =MAX(ROUND($W26*Y$34,4),Y27-$Y$38) -> 0.0218 | Z26: =MAX(ROUND($W26*Z$34,4),Z27-$Y$38) -> 0.0258 | AA26: =MAX(ROUND($W26*AA$34,4),AA27-$Y$38) -> 0.0372 | AC26: =$P26*Y26 -> 0.00109 | AD26: =$P26*Z26 -> 0.00129 | AE26: =$P26*AA26 -> 0.00186 | AG26: =IF(AND(Y27-Y26<$Y$38,AG25=1),1,0) -> 1 | AH26: =IF(AND(Z27-Z26<$Y$38,AH25=1),1,0) -> 1 | AI26: =IF(AND(AA27-AA26<$Y$38,AI25=1),1,0) -> 1 | AK26: =IF(AND(Y$35>Y$34,AG26=1),MAX(ROUND(Y26*(AG$37/AG$35),4),MIN($AK$38,$D$13)),Y26) -> 0.0209 | AL26: =IF(AND(Z$35>Z$34,AH26=1),MAX(ROUND(Z26*(AH$37/AH$35),4),$D$13),Z26) -> 0.0258 | AM26: =IF(AND(AA$35>AA$34,AI26=1),MAX(ROUND(AA26*(AI$37/AI$35),4),$D$13),AA26) -> 0.0372 | AO26: =$P26*AK26 -> 0.001045 | AP26: =$P26*AL26 -> 0.00129 | AQ26: =$P26*AM26 -> 0.00186 | AS26: =AK26-AK25 -> 0.0026 | AT26: =AL26-AL25 -> 0.0032 | AU26: =AM26-AM25 -> 0.0046
O27: 15 | P27: 0.05 | Q27: 0.49 | R27: 0.685 | S27: =IF($K$29<Q27,0,IF($K$29<=R27,100%,0)) -> 0 | T27: =IF(S27=100%,S27,IF(T26<100%,T26+M$34,T26+M$35)) -> 1.3969659 | U27: =IF(T27=100%,T27,T27+K$32) -> 1.3416561 | V27: =IF(U27=100%,U27,MIN(ROUND(U27,2),V28-1%)) -> 1.34 | W27: =IF(V27=100%,V27,IF(V$35>2005%,V27-1%,IF(V$35<1995%,V27+1%,V27))) -> 1.34 | X27: =W27-W26 -> 0.2 | Y27: =MAX(ROUND($W27*Y$34,4),Y28-$Y$38) -> 0.0256 | Z27: =MAX(ROUND($W27*Z$34,4),Z28-$Y$38) -> 0.0303 | AA27: =MAX(ROUND($W27*AA$34,4),AA28-$Y$38) -> 0.0437 | AC27: =$P27*Y27 -> 0.00128 | AD27: =$P27*Z27 -> 0.001515 | AE27: =$P27*AA27 -> 0.002185 | AG27: =IF(AND(Y28-Y27<$Y$38,AG26=1),1,0) -> 1 | AH27: =IF(AND(Z28-Z27<$Y$38,AH26=1),1,0) -> 1 | AI27: =IF(AND(AA28-AA27<$Y$38,AI26=1),1,0) -> 1 | AK27: =IF(AND(Y$35>Y$34,AG27=1),MAX(ROUND(Y27*(AG$37/AG$35),4),MIN($AK$38,$D$13)),Y27) -> 0.0245 | AL27: =IF(AND(Z$35>Z$34,AH27=1),MAX(ROUND(Z27*(AH$37/AH$35),4),$D$13),Z27) -> 0.0303 | AM27: =IF(AND(AA$35>AA$34,AI27=1),MAX(ROUND(AA27*(AI$37/AI$35),4),$D$13),AA27) -> 0.0437 | AO27: =$P27*AK27 -> 0.001225 | AP27: =$P27*AL27 -> 0.001515 | AQ27: =$P27*AM27 -> 0.002185 | AS27: =AK27-AK26 -> 0.0036 | AT27: =AL27-AL26 -> 0.0045 | AU27: =AM27-AM26 -> 0.0065
O28: 16 | P28: 0.05 | Q28: 0.4 | R28: 0.53 | S28: =IF($K$29<Q28,0,IF($K$29<=R28,100%,0)) -> 0 | T28: =IF(S28=100%,S28,IF(T27<100%,T27+M$34,T27+M$35)) -> 1.5954488 | U28: =IF(T28=100%,T28,T28+K$32) -> 1.5401391 | V28: =IF(U28=100%,U28,MIN(ROUND(U28,2),V29-1%)) -> 1.54 | W28: =IF(V28=100%,V28,IF(V$35>2004%,V28-1%,IF(V$35<1996%,V28+1%,V28))) -> 1.54 | X28: =W28-W27 -> 0.2 | Y28: =MAX(ROUND($W28*Y$34,4),Y29-$Y$38) -> 0.0294 | Z28: =MAX(ROUND($W28*Z$34,4),Z29-$Y$38) -> 0.0348 | AA28: =MAX(ROUND($W28*AA$34,4),AA29-$Y$38) -> 0.0502 | AC28: =$P28*Y28 -> 0.00147 | AD28: =$P28*Z28 -> 0.00174 | AE28: =$P28*AA28 -> 0.00251 | AG28: =IF(AND(Y29-Y28<$Y$38,AG27=1),1,0) -> 1 | AH28: =IF(AND(Z29-Z28<$Y$38,AH27=1),1,0) -> 1 | AI28: =IF(AND(AA29-AA28<$Y$38,AI27=1),1,0) -> 1 | AK28: =IF(AND(Y$35>Y$34,AG28=1),MAX(ROUND(Y28*(AG$37/AG$35),4),MIN($AK$38,$D$13)),Y28) -> 0.0282 | AL28: =IF(AND(Z$35>Z$34,AH28=1),MAX(ROUND(Z28*(AH$37/AH$35),4),$D$13),Z28) -> 0.0348 | AM28: =IF(AND(AA$35>AA$34,AI28=1),MAX(ROUND(AA28*(AI$37/AI$35),4),$D$13),AA28) -> 0.0502 | AO28: =$P28*AK28 -> 0.00141 | AP28: =$P28*AL28 -> 0.00174 | AQ28: =$P28*AM28 -> 0.00251 | AS28: =AK28-AK27 -> 0.0037 | AT28: =AL28-AL27 -> 0.0045 | AU28: =AM28-AM27 -> 0.0065
K29: =D15/AVERAGE(D13:D15) -> 0.83088235 | O29: 17 | P29: 0.05 | Q29: 0.31 | R29: 0.435 | S29: =IF($K$29<Q29,0,IF($K$29<=R29,100%,0)) -> 0 | T29: =IF(S29=100%,S29,IF(T28<100%,T28+M$34,T28+M$35)) -> 1.7939317 | U29: =IF(T29=100%,T29,T29+K$32) -> 1.738622 | V29: =IF(U29=100%,U29,MIN(ROUND(U29,2),V30-1%)) -> 1.74 | W29: =IF(V29=100%,V29,IF(V$35>2003%,V29-1%,IF(V$35<1997%,V29+1%,V29))) -> 1.74 | X29: =W29-W28 -> 0.2 | Y29: =MAX(ROUND($W29*Y$34,4),Y30-$Y$38) -> 0.0332 | Z29: =MAX(ROUND($W29*Z$34,4),Z30-$Y$38) -> 0.0393 | AA29: =MAX(ROUND($W29*AA$34,4),AA30-$Y$38) -> 0.0567 | AC29: =$P29*Y29 -> 0.00166 | AD29: =$P29*Z29 -> 0.001965 | AE29: =$P29*AA29 -> 0.002835 | AG29: =IF(AND(Y30-Y29<$Y$38,AG28=1),1,0) -> 1 | AH29: =IF(AND(Z30-Z29<$Y$38,AH28=1),1,0) -> 1 | AI29: =IF(AND(AA30-AA29<$Y$38,AI28=1),1,0) -> 1 | AK29: =IF(AND(Y$35>Y$34,AG29=1),MAX(ROUND(Y29*(AG$37/AG$35),4),MIN($AK$38,$D$13)),Y29) -> 0.0318 | AL29: =IF(AND(Z$35>Z$34,AH29=1),MAX(ROUND(Z29*(AH$37/AH$35),4),$D$13),Z29) -> 0.0393 | AM29: =IF(AND(AA$35>AA$34,AI29=1),MAX(ROUND(AA29*(AI$37/AI$35),4),$D$13),AA29) -> 0.0567 | AO29: =$P29*AK29 -> 0.00159 | AP29: =$P29*AL29 -> 0.001965 | AQ29: =$P29*AM29 -> 0.002835 | AS29: =AK29-AK28 -> 0.0036 | AT29: =AL29-AL28 -> 0.0045 | AU29: =AM29-AM28 -> 0.0065
O30: 18 | P30: 0.05 | Q30: 0.305 | R30: 0.34 | S30: =IF($K$29<Q30,0,IF($K$29<=R30,100%,0)) -> 0 | T30: =IF(S30=100%,S30,IF(T29<100%,T29+M$34,T29+M$35)) -> 1.9924147 | U30: =IF(T30=100%,T30,T30+K$32) -> 1.9371049 | V30: =IF(U30=100%,U30,MIN(ROUND(U30,2),V31-1%)) -> 1.94 | W30: =IF(V30=100%,V30,IF(V$35>2002%,V30-1%,IF(V$35<1998%,V30+1%,V30))) -> 1.94 | X30: =W30-W29 -> 0.2 | Y30: =MAX(ROUND($W30*Y$34,4),Y31-$Y$38) -> 0.0371 | Z30: =MAX(ROUND($W30*Z$34,4),Z31-$Y$38) -> 0.0438 | AA30: =MAX(ROUND($W30*AA$34,4),AA31-$Y$38) -> 0.0632 | AC30: =$P30*Y30 -> 0.001855 | AD30: =$P30*Z30 -> 0.00219 | AE30: =$P30*AA30 -> 0.00316 | AG30: =IF(AND(Y31-Y30<$Y$38,AG29=1),1,0) -> 1 | AH30: =IF(AND(Z31-Z30<$Y$38,AH29=1),1,0) -> 1 | AI30: =IF(AND(AA31-AA30<$Y$38,AI29=1),1,0) -> 1 | AK30: =IF(AND(Y$35>Y$34,AG30=1),MAX(ROUND(Y30*(AG$37/AG$35),4),MIN($AK$38,$D$13)),Y30) -> 0.0355 | AL30: =IF(AND(Z$35>Z$34,AH30=1),MAX(ROUND(Z30*(AH$37/AH$35),4),$D$13),Z30) -> 0.0438 | AM30: =IF(AND(AA$35>AA$34,AI30=1),MAX(ROUND(AA30*(AI$37/AI$35),4),$D$13),AA30) -> 0.0632 | AO30: =$P30*AK30 -> 0.001775 | AP30: =$P30*AL30 -> 0.00219 | AQ30: =$P30*AM30 -> 0.00316 | AS30: =AK30-AK29 -> 0.0037 | AT30: =AL30-AL29 -> 0.0045 | AU30: =AM30-AM29 -> 0.0065
K31: =18-S35 -> 16 | O31: 19 | P31: 0.05 | S31: 0 | T31: =IF(S31=100%,S31,IF(T30<100%,T30+M$34,T30+M$35)) -> 2.1908976 | U31: =IF(T31=100%,T31,T31+K$32) -> 2.1355879 | V31: =IF(U31=100%,U31,MIN(ROUND(U31,2),V32-1%,TRUNC(T32-1%,2))) -> 2.14 | W31: =IF(V31=100%,V31,IF(V$35>2001%,V31-1%,IF(V$35<1999%,V31+1%,V31))) -> 2.14 | X31: =W31-W30 -> 0.2 | Y31: =MAX(ROUND($W31*Y$34,4),Y32-$Y$38) -> 0.045 | Z31: =MAX(ROUND($W31*Z$34,4),Z32-$Y$38) -> 0.0484 | AA31: =MAX(ROUND($W31*AA$34,4),AA32-$Y$38) -> 0.0698 | AC31: =$P31*Y31 -> 0.00225 | AD31: =$P31*Z31 -> 0.00242 | AE31: =$P31*AA31 -> 0.00349 | AG31: =IF(AND(Y32-Y31<$Y$38,AG30=1),1,0) -> 0 | AH31: =IF(AND(Z32-Z31<$Y$38,AH30=1),1,0) -> 1 | AI31: =IF(AND(AA32-AA31<$Y$38,AI30=1),1,0) -> 1 | AK31: =IF(AND(Y$35>Y$34,AG31=1),MAX(ROUND(Y31*(AG$37/AG$35),4),MIN($AK$38,$D$13)),Y31) -> 0.045 | AL31: =IF(AND(Z$35>Z$34,AH31=1),MAX(ROUND(Z31*(AH$37/AH$35),4),$D$13),Z31) -> 0.0484 | AM31: =IF(AND(AA$35>AA$34,AI31=1),MAX(ROUND(AA31*(AI$37/AI$35),4),$D$13),AA31) -> 0.0698 | AO31: =$P31*AK31 -> 0.00225 | AP31: =$P31*AL31 -> 0.00242 | AQ31: =$P31*AM31 -> 0.00349 | AS31: =AK31-AK30 -> 0.0095 | AT31: =AL31-AL30 -> 0.0046 | AU31: =AM31-AM30 -> 0.0066
K32: =T34/K31 -> -0.055309735 | O32: 20 | P32: 0.05 | T32: =Z32/D15 -> 2.3893805 | U32: =T32 -> 2.3893805 | V32: =ROUND(U32,2) -> 2.39 | W32: =IF(V32=100%,V32,IF(V$35>2000%,V32-1%,IF(V$35<2000%,V32+1%,V32))) -> 2.39 | X32: =W32-W31 -> 0.25 | Y32: =MAX(ROUND($W32*Y$34,4),5.4%) -> 0.054 | Z32: =D14 -> 0.054 | AA32: =MAX(ROUND($W32*AA$34,4),5.4%) -> 0.0779 | AC32: =$P32*Y32 -> 0.0027 | AD32: =$P32*Z32 -> 0.0027 | AE32: =$P32*AA32 -> 0.003895 | AG32: 0 | AH32: 0 | AI32: 0 | AK32: =IF(AND(Y$35>Y$34,AG32=1),ROUND(Y32*(AG$37/AG$35),4),Y32) -> 0.054 | AL32: =D14 -> 0.054 | AM32: =IF(AND(AA$35>AA$34,AI32=1),ROUND(AA32*(AI$37/AI$35),4),AA32) -> 0.0779 | AO32: =$P32*AK32 -> 0.0027 | AP32: =$P32*AL32 -> 0.0027 | AQ32: =$P32*AM32 -> 0.003895 | AS32: =AK32-AK31 -> 0.009 | AT32: =AL32-AL31 -> 0.0056 | AU32: =AM32-AM31 -> 0.0081
K34: =100%-T13 -> 0.77876106 | L34: =IF(AND(S14=100%,S13<>100%),1,IF(AND(S15=100%,S14<>100%),2,IF(AND(S16=100%,S15<>100%),3,IF(AND(S17=100%,S16<>100%),4,IF(AND(S18=100%,S17<>100%),5,IF(AND(S19=100%,S18<>100%),6,IF(AND(S20=100%,S19<>100%),7,IF(AND(S21=100%,S20<>100%),8,IF(AND(S22=100%,S21<>100%),9,IF(AND(S23=100%,S22<>100%),10,IF(AND(S24=100%,S23<>100%),11,IF(AND(S25=100%,S24<>100%),12,IF(AND(S26=100%,S25<>100%),13,IF(AND(S27=100%,S26<>100%),14,IF(AND(S28=100%,S27<>100%),15,IF(AND(S29=100%,S28<>100%),16,IF(AND(S30=100%,S29<>100%),17,IF(AND(S31=100%,S30<>100%),18,99)))))))))))))))))) -> 11 | M34: =K34/L34 -> 0.07079646 | T34: =2000%-T35 -> -0.88495575 | W34: Input Average Tax Rate: | Y34: =E15 -> 0.0191 | Z34: =D15 -> 0.0226 | AA34: =F15 -> 0.0326 | AG34: =Y34 -> 0.0191 | AH34: =Z34 -> 0.0226 | AI34: =AA34 -> 0.0326 | AK34: =Y34 -> 0.0191 | AL34: =Z34 -> 0.0226 | AM34: =AA34 -> 0.0326 | AS34: =MAX(AS14:AS32) -> 0.0095 | AT34: =MAX(AT14:AT32) -> 0.0056 | AU34: =MAX(AU14:AU32) -> 0.0081
K35: =T32-100% -> 1.3893805 | L35: =IF(AND(S14=100%,S15<>100%),18,IF(AND(S15=100%,S16<>100%),17,IF(AND(S16=100%,S17<>100%),16,IF(AND(S17=100%,S18<>100%),15,IF(AND(S18=100%,S19<>100%),14,IF(AND(S19=100%,S20<>100%),13,IF(AND(S20=100%,S21<>100%),12,IF(AND(S21=100%,S22<>100%),11,IF(AND(S22=100%,S23<>100%),10,IF(AND(S23=100%,S24<>100%),9,IF(AND(S24=100%,S25<>100%),8,IF(AND(S25=100%,S26<>100%),7,IF(AND(S26=100%,S27<>100%),6,IF(AND(S27=100%,S28<>100%),5,IF(AND(S28=100%,S29<>100%),4,IF(AND(S29=100%,S30<>100%),3,IF(AND(S30=100%,S31<>100%),2,IF(AND(S31=100%,S32<>100%),1,99)))))))))))))))))) -> 7 | M35: =K35/L35 -> 0.19848293 | S35: =SUM(S13:S32) -> 2 | T35: =SUM(T13:T32) -> 20.884956 | U35: =SUM(U13:U32) -> 20 | V35: =SUM(V13:V32) -> 20 | W35: Final Average Tax Rate: | Y35: =SUM(AC13:AC32) -> 0.019725 | Z35: =SUM(AD13:AD32) -> 0.022605 | AA35: =SUM(AE13:AE32) -> 0.032605 | AG35: =SUMIF(AG13:AG32,"=1",AC13:AC32) -> 0.014775 | AH35: =SUMIF(AH13:AH32,"=1",AD13:AD32) -> 0.019905 | AI35: =SUMIF(AI13:AI32,"=1",AE13:AE32) -> 0.02871 | AK35: =SUM(AO13:AO32) -> 0.019105 | AL35: =SUM(AP13:AP32) -> 0.022605 | AM35: =SUM(AQ13:AQ32) -> 0.032605
AG36: =SUMIF(AG13:AG32,"=0",AC13:AC32) -> 0.00495 | AH36: =SUMIF(AH13:AH32,"=0",AD13:AD32) -> 0.0027 | AI36: =SUMIF(AI13:AI32,"=0",AE13:AE32) -> 0.003895
AG37: =AG34-AG36 -> 0.01415 | AH37: =AH34-AH36 -> 0.0199 | AI37: =AI34-AI36 -> 0.028705
Y38: 0.009 | Z38: maximum increment | AK38: 0.001 | AL38: minimum tax rate for low schedule

Sheet Tax System Simulation
C2: Tax System Simulation
B3: This application will test the adequacy of the newly created tax table, in terms of the level of trust fund
B4: solvency it will provide under various levels of benefits costs. The simulation measures the number of
B5: years needed to reach the target balance from a specified beginning balance.
B6: The user only needs to input the starting trust fund level (in the form of an Average High Cost Multiple)
B7: and the average level of benefit costs to be simulated over the 10-year period.
B9: Simulation Inputs
G10: Beginning Average High Cost Multiple | H10: 0
G11: Average Benefit Cost Rate (% of Taxable Wages) | H11: 0.02
E13: Simulation Results
C14: Beginning
C15: Balance | F15: % of Taxable Wages
C16: as % of | D16: Beginning | E16: Schedule | H16: Ending | I16: Ending
C17: Tax. Wag. | D17: AHCM | E17: in Effect | F17: Revenues | G17: Benefits | H17: Reserves | I17: AHCM
B18: Year 0 | H18: =I18*'Step 2-3 Avg Rate and Trig Calc'!$K$54 -> 0 | I18: =H10 -> 0
B19: Year 1 | C19: =H18 -> 0 | D19: =I18 -> 0 | E19: =IF(D19>='Step 2-3 Avg Rate and Trig Calc'!E$62,'Step 2-3 Avg Rate and Trig Calc'!D$60,IF(D19>='Step 2-3 Avg Rate and Trig Calc'!F$62,'Step 2-3 Avg Rate and Trig Calc'!E$60,IF(OR(D19>='Step 2-3 Avg Rate and Trig Calc'!G$62,'Step 2-3 Avg Rate and Trig Calc'!G$62=""),'Step 2-3 Avg Rate and Trig Calc'!F$60,IF(OR(D19>='Step 2-3 Avg Rate and Trig Calc'!H$62,'Step 2-3 Avg Rate and Trig Calc'!H$62=""),'Step 2-3 Avg Rate and Trig Calc'!G$60,IF(OR(D19>='Step 2-3 Avg Rate and Trig Calc'!I$62,'Step 2-3 Avg Rate and Trig Calc'!I$62=""),'Step 2-3 Avg Rate and Trig Calc'!H$60,IF(OR(D19>='Step 2-3 Avg Rate and Trig Calc'!J$62,'Step 2-3 Avg Rate and Trig Calc'!J$62=""),'Step 2-3 Avg Rate and Trig Calc'!I$60,IF(OR(D19>='Step 2-3 Avg Rate and Trig Calc'!K$62,'Step 2-3 Avg Rate and Trig Calc'!K$62=""),'Step 2-3 Avg Rate and Trig Calc'!J$60,IF(OR(D19>='Step 2-3 Avg Rate and Trig Calc'!L$62,'Step 2-3 Avg Rate and Trig Calc'!L$62=""),'Step 2-3 Avg Rate and Trig Calc'!K$60,IF(OR(D19>='Step 2-3 Avg Rate and Trig Calc'!M$62,'Step 2-3 Avg Rate and Trig Calc'!M$62=""),'Step 2-3 Avg Rate and Trig Calc'!L$60,IF(OR(D19>='Step 2-3 Avg Rate and Trig Calc'!N$62,'Step 2-3 Avg Rate and Trig Calc'!N$62=""),'Step 2-3 Avg Rate and Trig Calc'!M$60,IF(OR(D19>='Step 2-3 Avg Rate and Trig Calc'!O$62,'Step 2-3 Avg Rate and Trig Calc'!O$62=""),'Step 2-3 Avg Rate and Trig Calc'!N$60,'Step 2-3 Avg Rate and Trig Calc'!O$60))))))))))) -> I | F19: =IF(E19="A",'Step 2-3 Avg Rate and Trig Calc'!D$69,IF(E19="B",'Step 2-3 Avg Rate and Trig Calc'!E$69,IF(E19="C",'Step 2-3 Avg Rate and Trig Calc'!F$69,IF(E19="D",'Step 2-3 Avg Rate and Trig Calc'!G$69,IF(E19="E",'Step 2-3 Avg Rate and Trig Calc'!H$69,IF(E19="F",'Step 2-3 Avg Rate and Trig Calc'!I$69,IF(E19="G",'Step 2-3 Avg Rate and Trig Calc'!J$69,IF(E19="H",'Step 2-3 Avg Rate and Trig Calc'!K$69,IF(E19="I",'Step 2-3 Avg Rate and Trig Calc'!L$69,IF(E19="j",'Step 2-3 Avg Rate and Trig Calc'!M$69,IF(E19="K",'Step 2-3 Avg Rate and Trig Calc'!N$69,IF(E19="L",'Step 2-3 Avg Rate and Trig Calc'!O$69,"ERROR")))))))))))) -> 0.034 | G19: =H11 -> 0.02 | H19: =C19+F19-G19 -> 0.014 | I19: =H19/'Step 2-3 Avg Rate and Trig Calc'!$K$54*'Base Rate Calculation'!$I$25 -> 0.36493333
B20: Year 2 | C20: =H19 -> 0.014 | D20: =I19 -> 0.36493333 | E20: =IF(D20>='Step 2-3 Avg Rate and Trig Calc'!E$62,'Step 2-3 Avg Rate and Trig Calc'!D$60,IF(D20>='Step 2-3 Avg Rate and Trig Calc'!F$62,'Step 2-3 Avg Rate and Trig Calc'!E$60,IF(OR(D20>='Step 2-3 Avg Rate and Trig Calc'!G$62,'Step 2-3 Avg Rate and Trig Calc'!G$62=""),'Step 2-3 Avg Rate and Trig Calc'!F$60,IF(OR(D20>='Step 2-3 Avg Rate and Trig Calc'!H$62,'Step 2-3 Avg Rate and Trig Calc'!H$62=""),'Step 2-3 Avg Rate and Trig Calc'!G$60,IF(OR(D20>='Step 2-3 Avg Rate and Trig Calc'!I$62,'Step 2-3 Avg Rate and Trig Calc'!I$62=""),'Step 2-3 Avg Rate and Trig Calc'!H$60,IF(OR(D20>='Step 2-3 Avg Rate and Trig Calc'!J$62,'Step 2-3 Avg Rate and Trig Calc'!J$62=""),'Step 2-3 Avg Rate and Trig Calc'!I$60,IF(OR(D20>='Step 2-3 Avg Rate and Trig Calc'!K$62,'Step 2-3 Avg Rate and Trig Calc'!K$62=""),'Step 2-3 Avg Rate and Trig Calc'!J$60,IF(OR(D20>='Step 2-3 Avg Rate and Trig Calc'!L$62,'Step 2-3 Avg Rate and Trig Calc'!L$62=""),'Step 2-3 Avg Rate and Trig Calc'!K$60,IF(OR(D20>='Step 2-3 Avg Rate and Trig Calc'!M$62,'Step 2-3 Avg Rate and Trig Calc'!M$62=""),'Step 2-3 Avg Rate and Trig Calc'!L$60,IF(OR(D20>='Step 2-3 Avg Rate and Trig Calc'!N$62,'Step 2-3 Avg Rate and Trig Calc'!N$62=""),'Step 2-3 Avg Rate and Trig Calc'!M$60,IF(OR(D20>='Step 2-3 Avg Rate and Trig Calc'!O$62,'Step 2-3 Avg Rate and Trig Calc'!O$62=""),'Step 2-3 Avg Rate and Trig Calc'!N$60,'Step 2-3 Avg Rate and Trig Calc'!O$60))))))))))) -> H | F20: =IF(E20="A",'Step 2-3 Avg Rate and Trig Calc'!D$69,IF(E20="B",'Step 2-3 Avg Rate and Trig Calc'!E$69,IF(E20="C",'Step 2-3 Avg Rate and Trig Calc'!F$69,IF(E20="D",'Step 2-3 Avg Rate and Trig Calc'!G$69,IF(E20="E",'Step 2-3 Avg Rate and Trig Calc'!H$69,IF(E20="F",'Step 2-3 Avg Rate and Trig Calc'!I$69,IF(E20="G",'Step 2-3 Avg Rate and Trig Calc'!J$69,IF(E20="H",'Step 2-3 Avg Rate and Trig Calc'!K$69,IF(E20="I",'Step 2-3 Avg Rate and Trig Calc'!L$69,IF(E20="j",'Step 2-3 Avg Rate and Trig Calc'!M$69,IF(E20="K",'Step 2-3 Avg Rate and Trig Calc'!N$69,IF(E20="L",'Step 2-3 Avg Rate and Trig Calc'!O$69,"ERROR")))))))))))) -> 0.0324 | G20: =G$19 -> 0.02 | H20: =C20+F20-G20 -> 0.0264 | I20: =H20/'Step 2-3 Avg Rate and Trig Calc'!$K$54*'Base Rate Calculation'!$I$25 -> 0.68816
B21: Year 3 | C21: =H20 -> 0.0264 | D21: =I20 -> 0.68816 | E21: =IF(D21>='Step 2-3 Avg Rate and Trig Calc'!E$62,'Step 2-3 Avg Rate and Trig Calc'!D$60,IF(D21>='Step 2-3 Avg Rate and Trig Calc'!F$62,'Step 2-3 Avg Rate and Trig Calc'!E$60,IF(OR(D21>='Step 2-3 Avg Rate and Trig Calc'!G$62,'Step 2-3 Avg Rate and Trig Calc'!G$62=""),'Step 2-3 Avg Rate and Trig Calc'!F$60,IF(OR(D21>='Step 2-3 Avg Rate and Trig Calc'!H$62,'Step 2-3 Avg Rate and Trig Calc'!H$62=""),'Step 2-3 Avg Rate and Trig Calc'!G$60,IF(OR(D21>='Step 2-3 Avg Rate and Trig Calc'!I$62,'Step 2-3 Avg Rate and Trig Calc'!I$62=""),'Step 2-3 Avg Rate and Trig Calc'!H$60,IF(OR(D21>='Step 2-3 Avg Rate and Trig Calc'!J$62,'Step 2-3 Avg Rate and Trig Calc'!J$62=""),'Step 2-3 Avg Rate and Trig Calc'!I$60,IF(OR(D21>='Step 2-3 Avg Rate and Trig Calc'!K$62,'Step 2-3 Avg Rate and Trig Calc'!K$62=""),'Step 2-3 Avg Rate and Trig Calc'!J$60,IF(OR(D21>='Step 2-3 Avg Rate and Trig Calc'!L$62,'Step 2-3 Avg Rate and Trig Calc'!L$62=""),'Step 2-3 Avg Rate and Trig Calc'!K$60,IF(OR(D21>='Step 2-3 Avg Rate and Trig Calc'!M$62,'Step 2-3 Avg Rate and Trig Calc'!M$62=""),'Step 2-3 Avg Rate and Trig Calc'!L$60,IF(OR(D21>='Step 2-3 Avg Rate and Trig Calc'!N$62,'Step 2-3 Avg Rate and Trig Calc'!N$62=""),'Step 2-3 Avg Rate and Trig Calc'!M$60,IF(OR(D21>='Step 2-3 Avg Rate and Trig Calc'!O$62,'Step 2-3 Avg Rate and Trig Calc'!O$62=""),'Step 2-3 Avg Rate and Trig Calc'!N$60,'Step 2-3 Avg Rate and Trig Calc'!O$60))))))))))) -> E | F21: =IF(E21="A",'Step 2-3 Avg Rate and Trig Calc'!D$69,IF(E21="B",'Step 2-3 Avg Rate and Trig Calc'!E$69,IF(E21="C",'Step 2-3 Avg Rate and Trig Calc'!F$69,IF(E21="D",'Step 2-3 Avg Rate and Trig Calc'!G$69,IF(E21="E",'Step 2-3 Avg Rate and Trig Calc'!H$69,IF(E21="F",'Step 2-3 Avg Rate and Trig Calc'!I$69,IF(E21="G",'Step 2-3 Avg Rate and Trig Calc'!J$69,IF(E21="H",'Step 2-3 Avg Rate and Trig Calc'!K$69,IF(E21="I",'Step 2-3 Avg Rate and Trig Calc'!L$69,IF(E21="j",'Step 2-3 Avg Rate and Trig Calc'!M$69,IF(E21="K",'Step 2-3 Avg Rate and Trig Calc'!N$69,IF(E21="L",'Step 2-3 Avg Rate and Trig Calc'!O$69,"ERROR")))))))))))) -> 0.0274 | G21: =G$19 -> 0.02 | H21: =C21+F21-G21 -> 0.0338 | I21: =H21/'Step 2-3 Avg Rate and Trig Calc'!$K$54*'Base Rate Calculation'!$I$25 -> 0.88105333
B22: Year 4 | C22: =H21 -> 0.0338 | D22: =I21 -> 0.88105333 | E22: =IF(D22>='Step 2-3 Avg Rate and Trig Calc'!E$62,'Step 2-3 Avg Rate and Trig Calc'!D$60,IF(D22>='Step 2-3 Avg Rate and Trig Calc'!F$62,'Step 2-3 Avg Rate and Trig Calc'!E$60,IF(OR(D22>='Step 2-3 Avg Rate and Trig Calc'!G$62,'Step 2-3 Avg Rate and Trig Calc'!G$62=""),'Step 2-3 Avg Rate and Trig Calc'!F$60,IF(OR(D22>='Step 2-3 Avg Rate and Trig Calc'!H$62,'Step 2-3 Avg Rate and Trig Calc'!H$62=""),'Step 2-3 Avg Rate and Trig Calc'!G$60,IF(OR(D22>='Step 2-3 Avg Rate and Trig Calc'!I$62,'Step 2-3 Avg Rate and Trig Calc'!I$62=""),'Step 2-3 Avg Rate and Trig Calc'!H$60,IF(OR(D22>='Step 2-3 Avg Rate and Trig Calc'!J$62,'Step 2-3 Avg Rate and Trig Calc'!J$62=""),'Step 2-3 Avg Rate and Trig Calc'!I$60,IF(OR(D22>='Step 2-3 Avg Rate and Trig Calc'!K$62,'Step 2-3 Avg Rate and Trig Calc'!K$62=""),'Step 2-3 Avg Rate and Trig Calc'!J$60,IF(OR(D22>='Step 2-3 Avg Rate and Trig Calc'!L$62,'Step 2-3 Avg Rate and Trig Calc'!L$62=""),'Step 2-3 Avg Rate and Trig Calc'!K$60,IF(OR(D22>='Step 2-3 Avg Rate and Trig Calc'!M$62,'Step 2-3 Avg Rate and Trig Calc'!M$62=""),'Step 2-3 Avg Rate and Trig Calc'!L$60,IF(OR(D22>='Step 2-3 Avg Rate and Trig Calc'!N$62,'Step 2-3 Avg Rate and Trig Calc'!N$62=""),'Step 2-3 Avg Rate and Trig Calc'!M$60,IF(OR(D22>='Step 2-3 Avg Rate and Trig Calc'!O$62,'Step 2-3 Avg Rate and Trig Calc'!O$62=""),'Step 2-3 Avg Rate and Trig Calc'!N$60,'Step 2-3 Avg Rate and Trig Calc'!O$60))))))))))) -> C | F22: =IF(E22="A",'Step 2-3 Avg Rate and Trig Calc'!D$69,IF(E22="B",'Step 2-3 Avg Rate and Trig Calc'!E$69,IF(E22="C",'Step 2-3 Avg Rate and Trig Calc'!F$69,IF(E22="D",'Step 2-3 Avg Rate and Trig Calc'!G$69,IF(E22="E",'Step 2-3 Avg Rate and Trig Calc'!H$69,IF(E22="F",'Step 2-3 Avg Rate and Trig Calc'!I$69,IF(E22="G",'Step 2-3 Avg Rate and Trig Calc'!J$69,IF(E22="H",'Step 2-3 Avg Rate and Trig Calc'!K$69,IF(E22="I",'Step 2-3 Avg Rate and Trig Calc'!L$69,IF(E22="j",'Step 2-3 Avg Rate and Trig Calc'!M$69,IF(E22="K",'Step 2-3 Avg Rate and Trig Calc'!N$69,IF(E22="L",'Step 2-3 Avg Rate and Trig Calc'!O$69,"ERROR")))))))))))) -> 0.0241 | G22: =G$19 -> 0.02 | H22: =C22+F22-G22 -> 0.0379 | I22: =H22/'Step 2-3 Avg Rate and Trig Calc'!$K$54*'Base Rate Calculation'!$I$25 -> 0.98792667
B23: Year 5 | C23: =H22 -> 0.0379 | D23: =I22 -> 0.98792667 | E23: =IF(D23>='Step 2-3 Avg Rate and Trig Calc'!E$62,'Step 2-3 Avg Rate and Trig Calc'!D$60,IF(D23>='Step 2-3 Avg Rate and Trig Calc'!F$62,'Step 2-3 Avg Rate and Trig Calc'!E$60,IF(OR(D23>='Step 2-3 Avg Rate and Trig Calc'!G$62,'Step 2-3 Avg Rate and Trig Calc'!G$62=""),'Step 2-3 Avg Rate and Trig Calc'!F$60,IF(OR(D23>='Step 2-3 Avg Rate and Trig Calc'!H$62,'Step 2-3 Avg Rate and Trig Calc'!H$62=""),'Step 2-3 Avg Rate and Trig Calc'!G$60,IF(OR(D23>='Step 2-3 Avg Rate and Trig Calc'!I$62,'Step 2-3 Avg Rate and Trig Calc'!I$62=""),'Step 2-3 Avg Rate and Trig Calc'!H$60,IF(OR(D23>='Step 2-3 Avg Rate and Trig Calc'!J$62,'Step 2-3 Avg Rate and Trig Calc'!J$62=""),'Step 2-3 Avg Rate and Trig Calc'!I$60,IF(OR(D23>='Step 2-3 Avg Rate and Trig Calc'!K$62,'Step 2-3 Avg Rate and Trig Calc'!K$62=""),'Step 2-3 Avg Rate and Trig Calc'!J$60,IF(OR(D23>='Step 2-3 Avg Rate and Trig Calc'!L$62,'Step 2-3 Avg Rate and Trig Calc'!L$62=""),'Step 2-3 Avg Rate and Trig Calc'!K$60,IF(OR(D23>='Step 2-3 Avg Rate and Trig Calc'!M$62,'Step 2-3 Avg Rate and Trig Calc'!M$62=""),'Step 2-3 Avg Rate and Trig Calc'!L$60,IF(OR(D23>='Step 2-3 Avg Rate and Trig Calc'!N$62,'Step 2-3 Avg Rate and Trig Calc'!N$62=""),'Step 2-3 Avg Rate and Trig Calc'!M$60,IF(OR(D23>='Step 2-3 Avg Rate and Trig Calc'!O$62,'Step 2-3 Avg Rate and Trig Calc'!O$62=""),'Step 2-3 Avg Rate and Trig Calc'!N$60,'Step 2-3 Avg Rate and Trig Calc'!O$60))))))))))) -> C | F23: =IF(E23="A",'Step 2-3 Avg Rate and Trig Calc'!D$69,IF(E23="B",'Step 2-3 Avg Rate and Trig Calc'!E$69,IF(E23="C",'Step 2-3 Avg Rate and Trig Calc'!F$69,IF(E23="D",'Step 2-3 Avg Rate and Trig Calc'!G$69,IF(E23="E",'Step 2-3 Avg Rate and Trig Calc'!H$69,IF(E23="F",'Step 2-3 Avg Rate and Trig Calc'!I$69,IF(E23="G",'Step 2-3 Avg Rate and Trig Calc'!J$69,IF(E23="H",'Step 2-3 Avg Rate and Trig Calc'!K$69,IF(E23="I",'Step 2-3 Avg Rate and Trig Calc'!L$69,IF(E23="j",'Step 2-3 Avg Rate and Trig Calc'!M$69,IF(E23="K",'Step 2-3 Avg Rate and Trig Calc'!N$69,IF(E23="L",'Step 2-3 Avg Rate and Trig Calc'!O$69,"ERROR")))))))))))) -> 0.0241 | G23: =G$19 -> 0.02 | H23: =C23+F23-G23 -> 0.042 | I23: =H23/'Step 2-3 Avg Rate and Trig Calc'!$K$54*'Base Rate Calculation'!$I$25 -> 1.0948
