Workbook

Sheet COMPUTE
A1: Hand Calculation for Legislative Cost Estimation Exercise - 2018 Benefit Financing Seminar
A2: Table 1
B3: First Payments
C4: =IF(SETTINGS!D10="HQW","High Quarter Wages","ERROR") -> High Quarter Wages | G4: Total
B5: =IF(SETTINGS!D11="BPW","Base Period Wages","ERROR") -> Base Period Wages | C5: =IF(SETTINGS!$C$15=1,SETTINGS!C22*(1+SETTINGS!$C$18)^SETTINGS!$C$16,SETTINGS!C22) -> 2500 | D5: =IF(SETTINGS!$C$15=1,SETTINGS!D22*(1+SETTINGS!$C$18)^SETTINGS!$C$16,SETTINGS!D22) -> 6500 | E5: =IF(SETTINGS!$C$15=1,SETTINGS!E22*(1+SETTINGS!$C$18)^SETTINGS!$C$16,SETTINGS!E22) -> 10500 | G5: Entitlement
B6: =IF(SETTINGS!$C$15=1,SETTINGS!B23*(1+SETTINGS!$C$18)^SETTINGS!$C$16,SETTINGS!B23) -> 6500 | C6: =IF(SETTINGS!C23>0,SETTINGS!C23,"-") -> 80 | D6: =IF(SETTINGS!D23>0,SETTINGS!D23,"-") -> 50 | E6: =IF(SETTINGS!E23>0,SETTINGS!E23,"-") -> -
B7: =IF(SETTINGS!$C$15=1,SETTINGS!B24*(1+SETTINGS!$C$18)^SETTINGS!$C$16,SETTINGS!B24) -> 12500 | C7: =IF(SETTINGS!C24>0,SETTINGS!C24,"-") -> - | D7: =IF(SETTINGS!D24>0,SETTINGS!D24,"-") -> 60 | E7: =IF(SETTINGS!E24>0,SETTINGS!E24,"-") -> 20
B8: =IF(SETTINGS!$C$15=1,SETTINGS!B25*(1+SETTINGS!$C$18)^SETTINGS!$C$16,SETTINGS!B25) -> 19000 | C8: =IF(SETTINGS!C25>0,SETTINGS!C25,"-") -> - | D8: =IF(SETTINGS!D25>0,SETTINGS!D25,"-") -> 40 | E8: =IF(SETTINGS!E25>0,SETTINGS!E25,"-") -> 30
B9: =IF(SETTINGS!$C$15=1,SETTINGS!B26*(1+SETTINGS!$C$18)^SETTINGS!$C$16,SETTINGS!B26) -> 27000 | C9: =IF(SETTINGS!C26>0,SETTINGS!C26,"-") -> - | D9: =IF(SETTINGS!D26>0,SETTINGS!D26,"-") -> - | E9: =IF(SETTINGS!E26>0,SETTINGS!E26,"-") -> 50
B10: =IF(SETTINGS!$C$15=1,SETTINGS!B27*(1+SETTINGS!$C$18)^SETTINGS!$C$16,SETTINGS!B27) -> 36000 | C10: =IF(SETTINGS!C27>0,SETTINGS!C27,"-") -> - | D10: =IF(SETTINGS!D27>0,SETTINGS!D27,"-") -> - | E10: =IF(SETTINGS!E27>0,SETTINGS!E27,"-") -> 80
B12: WBA
C13: =IF(C12>$C14,"ABOVE MAX WBA","") | D13: =IF(D12>$C14,"ABOVE MAX WBA","") | E13: =IF(E12>$C14,"ABOVE MAX WBA","")
B14: Maximum WBA:
A16: Table 2
B17: Potential Duration
C18: =C4 -> High Quarter Wages | G18: Total
B19: =B5 -> Base Period Wages | C19: =C5 -> 2500 | D19: =D5 -> 6500 | E19: =E5 -> 10500 | G19: Entitlement
B20: =B6 -> 6500 | G20: =G6 -> 0
B21: =B7 -> 12500 | G21: =G7 -> 0
B22: =B8 -> 19000 | G22: =G8 -> 0
B23: =B9 -> 27000 | G23: =G9 -> 0
B24: =B10 -> 36000 | G24: =G10 -> 0
B26: WBA | C26: =C12 -> 0 | D26: =D12 -> 0 | E26: =E12 -> 0
A29: Table 3
B30: Average Duration
C31: =C18 -> High Quarter Wages | G31: Total
B32: =B19 -> Base Period Wages | C32: =C19 -> 2500 | D32: =D19 -> 6500 | E32: =E19 -> 10500 | G32: Entitlement
B33: =B20 -> 6500 | G33: =G20 -> 0
B34: =B21 -> 12500 | G34: =G21 -> 0
B35: =B22 -> 19000 | G35: =G22 -> 0
B36: =B23 -> 27000 | G36: =G23 -> 0
B37: =B24 -> 36000 | G37: =G24 -> 0
B39: WBA | C39: =C26 -> 0 | D39: =D26 -> 0 | E39: =E26 -> 0
B41: Assumed Survival Rate:
E42: *reminder:
B43: Actual Duration = | C43: (1 - rN) / (1 - r) | E43: r = Survival Rate | G43: N = Potential Duration
A45: Table 4
B46: Total Benefits
C47: =C31 -> High Quarter Wages | G47: Total
B48: =B32 -> Base Period Wages | C48: =C32 -> 2500 | D48: =D32 -> 6500 | E48: =E32 -> 10500 | G48: Entitlement
...

Sheet SETTINGS
B2: Legislative Settings
C3: Interactive Settings
B4: Maximum WBA | C4: 150
B5: Maximum Duration | C5: 26 | D5: Weeks
B7: Additional Settings
B9: Qualifying Wages | C9: 2000
B10: WBA | C10: 1/26 | D10: HQW
B11: Monetary Entitlement | C11: 1/3 | D11: BPW
B13: Assumed Survival Rate | C13: 0.98
B15: Run Aged Distribution? (1=yes, 0=no) | C15: 0
B16: Number of Years Out | C16: 0
B17: Assumed Annual First Payment Growth Rate: | C17: 0.015
B18: Assumed Annual Inflation/Wage Growth Rate: | C18: 0
B20: Current (Base Year) First Payment Distribution
C21: High Quarter Wages
B22: Base Period Wages | C22: 2500 | D22: 6500 | E22: 10500
B23: 6500 | C23: 80 | D23: 50 | E23: 0
B24: 12500 | C24: 0 | D24: 60 | E24: 20
B25: 19000 | C25: 0 | D25: 40 | E25: 30
B26: 27000 | C26: 0 | D26: 0 | E26: 50
B27: 36000 | C27: 0 | D27: 0 | E27: 80

Sheet FIRST PAYMENTS
B2: ="Base Year +"&IF(SETTINGS!C15=1,SETTINGS!C16,"0")&" years: First Payments (000)" -> Base Year +0 years: First Payments (000)
C3: =IF(SETTINGS!D10="HQW","High Quarter Wages","ERROR") -> High Quarter Wages | G3: Total
B4: =IF(SETTINGS!D11="BPW","Base Period Wages","ERROR") -> Base Period Wages | C4: =IF(SETTINGS!$C$15=1,SETTINGS!C22*(1+SETTINGS!$C$18)^SETTINGS!$C$16,SETTINGS!C22) -> 2500 | D4: =IF(SETTINGS!$C$15=1,SETTINGS!D22*(1+SETTINGS!$C$18)^SETTINGS!$C$16,SETTINGS!D22) -> 6500 | E4: =IF(SETTINGS!$C$15=1,SETTINGS!E22*(1+SETTINGS!$C$18)^SETTINGS!$C$16,SETTINGS!E22) -> 10500 | G4: Entitlement
B5: =IF(SETTINGS!$C$15=1,SETTINGS!B23*(1+SETTINGS!$C$18)^SETTINGS!$C$16,SETTINGS!B23) -> 6500 | C5: =IF(SETTINGS!C23>0,SETTINGS!C23,"-") -> 80 | D5: =IF(SETTINGS!D23>0,SETTINGS!D23,"-") -> 50 | E5: =IF(SETTINGS!E23>0,SETTINGS!E23,"-") -> - | G5: =IF(B$4="ERROR","ERROR",LEFT(SETTINGS!C$11,1)/RIGHT(SETTINGS!C$11,1)*B5) -> 2166.6667
B6: =IF(SETTINGS!$C$15=1,SETTINGS!B24*(1+SETTINGS!$C$18)^SETTINGS!$C$16,SETTINGS!B24) -> 12500 | C6: =IF(SETTINGS!C24>0,SETTINGS!C24,"-") -> - | D6: =IF(SETTINGS!D24>0,SETTINGS!D24,"-") -> 60 | E6: =IF(SETTINGS!E24>0,SETTINGS!E24,"-") -> 20 | G6: =IF(B$4="ERROR","ERROR",LEFT(SETTINGS!C$11,1)/RIGHT(SETTINGS!C$11,1)*B6) -> 4166.6667
B7: =IF(SETTINGS!$C$15=1,SETTINGS!B25*(1+SETTINGS!$C$18)^SETTINGS!$C$16,SETTINGS!B25) -> 19000 | C7: =IF(SETTINGS!C25>0,SETTINGS!C25,"-") -> - | D7: =IF(SETTINGS!D25>0,SETTINGS!D25,"-") -> 40 | E7: =IF(SETTINGS!E25>0,SETTINGS!E25,"-") -> 30 | G7: =IF(B$4="ERROR","ERROR",LEFT(SETTINGS!C$11,1)/RIGHT(SETTINGS!C$11,1)*B7) -> 6333.3333
B8: =IF(SETTINGS!$C$15=1,SETTINGS!B26*(1+SETTINGS!$C$18)^SETTINGS!$C$16,SETTINGS!B26) -> 27000 | C8: =IF(SETTINGS!C26>0,SETTINGS!C26,"-") -> - | D8: =IF(SETTINGS!D26>0,SETTINGS!D26,"-") -> - | E8: =IF(SETTINGS!E26>0,SETTINGS!E26,"-") -> 50 | G8: =IF(B$4="ERROR","ERROR",LEFT(SETTINGS!C$11,1)/RIGHT(SETTINGS!C$11,1)*B8) -> 9000
B9: =IF(SETTINGS!$C$15=1,SETTINGS!B27*(1+SETTINGS!$C$18)^SETTINGS!$C$16,SETTINGS!B27) -> 36000 | C9: =IF(SETTINGS!C27>0,SETTINGS!C27,"-") -> - | D9: =IF(SETTINGS!D27>0,SETTINGS!D27,"-") -> - | E9: =IF(SETTINGS!E27>0,SETTINGS!E27,"-") -> 80 | G9: =IF(B$4="ERROR","ERROR",LEFT(SETTINGS!C$11,1)/RIGHT(SETTINGS!C$11,1)*B9) -> 12000
B11: WBA | C11: =IF($C3="ERROR","ERROR",MIN(LEFT(SETTINGS!$C10,1)/RIGHT(SETTINGS!$C10,2)*C4,$C14)) -> 96.153846 | D11: =IF($C3="ERROR","ERROR",MIN(LEFT(SETTINGS!$C10,1)/RIGHT(SETTINGS!$C10,2)*D4,$C14)) -> 150 | E11: =IF($C3="ERROR","ERROR",MIN(LEFT(SETTINGS!$C10,1)/RIGHT(SETTINGS!$C10,2)*E4,$C14)) -> 150
C12: =IF(C11>$C14,"ABOVE MAX WBA","") | D12: =IF(D11>$C14,"ABOVE MAX WBA","") | E12: =IF(E11>$C14,"ABOVE MAX WBA","")
B14: Inflated Maximum WBA: | C14: =MROUND(IF(SETTINGS!C15=1,SETTINGS!C4*(1+SETTINGS!C18)^SETTINGS!C16,SETTINGS!C4),5) -> 150
B17: Method For WBA Calc from Settings: | C17: =SETTINGS!C10&" * "&SETTINGS!D10 -> 1/26 * HQW
B18: Method for Monetary Entitlement: | C18: =SETTINGS!C11&" * "&SETTINGS!D11 -> 1/3 * BPW

Sheet POTENTIAL DURATION
B2: ="Base Year +"&IF(SETTINGS!C15=1,SETTINGS!C16,"0")&" years: Potential Duration (000)" -> Base Year +0 years: Potential Duration (000)
C3: High Quarter Wages | G3: Total
B4: Base Period Wages | C4: =IF(SETTINGS!$C$15=1,SETTINGS!C22*(1+SETTINGS!$C$18)^SETTINGS!$C$16,SETTINGS!C22) -> 2500 | D4: =IF(SETTINGS!$C$15=1,SETTINGS!D22*(1+SETTINGS!$C$18)^SETTINGS!$C$16,SETTINGS!D22) -> 6500 | E4: =IF(SETTINGS!$C$15=1,SETTINGS!E22*(1+SETTINGS!$C$18)^SETTINGS!$C$16,SETTINGS!E22) -> 10500 | G4: Entitlement
B5: =IF(SETTINGS!$C$15=1,SETTINGS!B23*(1+SETTINGS!$C$18)^SETTINGS!$C$16,SETTINGS!B23) -> 6500 | C5: =IF(SETTINGS!C23>0,ROUND(IF($G5/C$11<=SETTINGS!$C$5,$G5/C$11,SETTINGS!$C$5),2),"-") -> 22.53 | D5: =IF(SETTINGS!D23>0,ROUND(IF($G5/D$11<=SETTINGS!$C$5,$G5/D$11,SETTINGS!$C$5),2),"-") -> 14.44 | E5: =IF(SETTINGS!E23>0,ROUND(IF($G5/E$11<=SETTINGS!$C$5,$G5/E$11,SETTINGS!$C$5),2),"-") -> - | G5: ='FIRST PAYMENTS'!G5 -> 2166.6667
B6: =IF(SETTINGS!$C$15=1,SETTINGS!B24*(1+SETTINGS!$C$18)^SETTINGS!$C$16,SETTINGS!B24) -> 12500 | C6: =IF(SETTINGS!C24>0,ROUND(IF($G6/C$11<=SETTINGS!$C$5,$G6/C$11,SETTINGS!$C$5),2),"-") -> - | D6: =IF(SETTINGS!D24>0,ROUND(IF($G6/D$11<=SETTINGS!$C$5,$G6/D$11,SETTINGS!$C$5),2),"-") -> 26 | E6: =IF(SETTINGS!E24>0,ROUND(IF($G6/E$11<=SETTINGS!$C$5,$G6/E$11,SETTINGS!$C$5),2),"-") -> 26 | G6: ='FIRST PAYMENTS'!G6 -> 4166.6667
B7: =IF(SETTINGS!$C$15=1,SETTINGS!B25*(1+SETTINGS!$C$18)^SETTINGS!$C$16,SETTINGS!B25) -> 19000 | C7: =IF(SETTINGS!C25>0,ROUND(IF($G7/C$11<=SETTINGS!$C$5,$G7/C$11,SETTINGS!$C$5),2),"-") -> - | D7: =IF(SETTINGS!D25>0,ROUND(IF($G7/D$11<=SETTINGS!$C$5,$G7/D$11,SETTINGS!$C$5),2),"-") -> 26 | E7: =IF(SETTINGS!E25>0,ROUND(IF($G7/E$11<=SETTINGS!$C$5,$G7/E$11,SETTINGS!$C$5),2),"-") -> 26 | G7: ='FIRST PAYMENTS'!G7 -> 6333.3333
B8: =IF(SETTINGS!$C$15=1,SETTINGS!B26*(1+SETTINGS!$C$18)^SETTINGS!$C$16,SETTINGS!B26) -> 27000 | C8: =IF(SETTINGS!C26>0,ROUND(IF($G8/C$11<=SETTINGS!$C$5,$G8/C$11,SETTINGS!$C$5),2),"-") -> - | D8: =IF(SETTINGS!D26>0,ROUND(IF($G8/D$11<=SETTINGS!$C$5,$G8/D$11,SETTINGS!$C$5),2),"-") -> - | E8: =IF(SETTINGS!E26>0,ROUND(IF($G8/E$11<=SETTINGS!$C$5,$G8/E$11,SETTINGS!$C$5),2),"-") -> 26 | G8: ='FIRST PAYMENTS'!G8 -> 9000
B9: =IF(SETTINGS!$C$15=1,SETTINGS!B27*(1+SETTINGS!$C$18)^SETTINGS!$C$16,SETTINGS!B27) -> 36000 | C9: =IF(SETTINGS!C27>0,ROUND(IF($G9/C$11<=SETTINGS!$C$5,$G9/C$11,SETTINGS!$C$5),2),"-") -> - | D9: =IF(SETTINGS!D27>0,ROUND(IF($G9/D$11<=SETTINGS!$C$5,$G9/D$11,SETTINGS!$C$5),2),"-") -> - | E9: =IF(SETTINGS!E27>0,ROUND(IF($G9/E$11<=SETTINGS!$C$5,$G9/E$11,SETTINGS!$C$5),2),"-") -> 26 | G9: ='FIRST PAYMENTS'!G9 -> 12000
B11: WBA | C11: ='FIRST PAYMENTS'!C11 -> 96.153846 | D11: ='FIRST PAYMENTS'!D11 -> 150 | E11: ='FIRST PAYMENTS'!E11 -> 150

Sheet AVERAGE DURATION
B2: ="Base Year +"&IF(SETTINGS!C15=1,SETTINGS!C16,"0")&" years: Average Duration (000)" -> Base Year +0 years: Average Duration (000)
C3: High Quarter Wages | G3: Total
B4: Base Period Wages | C4: =IF(SETTINGS!$C$15=1,SETTINGS!C22*(1+SETTINGS!$C$18)^SETTINGS!$C$16,SETTINGS!C22) -> 2500 | D4: =IF(SETTINGS!$C$15=1,SETTINGS!D22*(1+SETTINGS!$C$18)^SETTINGS!$C$16,SETTINGS!D22) -> 6500 | E4: =IF(SETTINGS!$C$15=1,SETTINGS!E22*(1+SETTINGS!$C$18)^SETTINGS!$C$16,SETTINGS!E22) -> 10500 | G4: Entitlement
B5: =IF(SETTINGS!$C$15=1,SETTINGS!B23*(1+SETTINGS!$C$18)^SETTINGS!$C$16,SETTINGS!B23) -> 6500 | C5: =IF(SETTINGS!C23>0,ROUND((1-$C$14^'POTENTIAL DURATION'!C5)/(1-$C$14),1),"-") -> 18.3 | D5: =IF(SETTINGS!D23>0,ROUND((1-$C$14^'POTENTIAL DURATION'!D5)/(1-$C$14),1),"-") -> 12.7 | E5: =IF(SETTINGS!E23>0,ROUND((1-$C$14^'POTENTIAL DURATION'!E5)/(1-$C$14),1),"-") -> - | G5: ='FIRST PAYMENTS'!G5 -> 2166.6667
B6: =IF(SETTINGS!$C$15=1,SETTINGS!B24*(1+SETTINGS!$C$18)^SETTINGS!$C$16,SETTINGS!B24) -> 12500 | C6: =IF(SETTINGS!C24>0,ROUND((1-$C$14^'POTENTIAL DURATION'!C6)/(1-$C$14),1),"-") -> - | D6: =IF(SETTINGS!D24>0,ROUND((1-$C$14^'POTENTIAL DURATION'!D6)/(1-$C$14),1),"-") -> 20.4 | E6: =IF(SETTINGS!E24>0,ROUND((1-$C$14^'POTENTIAL DURATION'!E6)/(1-$C$14),1),"-") -> 20.4 | G6: ='FIRST PAYMENTS'!G6 -> 4166.6667
B7: =IF(SETTINGS!$C$15=1,SETTINGS!B25*(1+SETTINGS!$C$18)^SETTINGS!$C$16,SETTINGS!B25) -> 19000 | C7: =IF(SETTINGS!C25>0,ROUND((1-$C$14^'POTENTIAL DURATION'!C7)/(1-$C$14),1),"-") -> - | D7: =IF(SETTINGS!D25>0,ROUND((1-$C$14^'POTENTIAL DURATION'!D7)/(1-$C$14),1),"-") -> 20.4 | E7: =IF(SETTINGS!E25>0,ROUND((1-$C$14^'POTENTIAL DURATION'!E7)/(1-$C$14),1),"-") -> 20.4 | G7: ='FIRST PAYMENTS'!G7 -> 6333.3333
B8: =IF(SETTINGS!$C$15=1,SETTINGS!B26*(1+SETTINGS!$C$18)^SETTINGS!$C$16,SETTINGS!B26) -> 27000 | C8: =IF(SETTINGS!C26>0,ROUND((1-$C$14^'POTENTIAL DURATION'!C8)/(1-$C$14),1),"-") -> - | D8: =IF(SETTINGS!D26>0,ROUND((1-$C$14^'POTENTIAL DURATION'!D8)/(1-$C$14),1),"-") -> - | E8: =IF(SETTINGS!E26>0,ROUND((1-$C$14^'POTENTIAL DURATION'!E8)/(1-$C$14),1),"-") -> 20.4 | G8: ='FIRST PAYMENTS'!G8 -> 9000
B9: =IF(SETTINGS!$C$15=1,SETTINGS!B27*(1+SETTINGS!$C$18)^SETTINGS!$C$16,SETTINGS!B27) -> 36000 | C9: =IF(SETTINGS!C27>0,ROUND((1-$C$14^'POTENTIAL DURATION'!C9)/(1-$C$14),1),"-") -> - | D9: =IF(SETTINGS!D27>0,ROUND((1-$C$14^'POTENTIAL DURATION'!D9)/(1-$C$14),1),"-") -> - | E9: =IF(SETTINGS!E27>0,ROUND((1-$C$14^'POTENTIAL DURATION'!E9)/(1-$C$14),1),"-") -> 20.4 | G9: ='FIRST PAYMENTS'!G9 -> 12000
B11: WBA | C11: ='FIRST PAYMENTS'!C11 -> 96.153846 | D11: ='FIRST PAYMENTS'!D11 -> 150 | E11: ='FIRST PAYMENTS'!E11 -> 150
B14: Assumed Survival Rate (r): | C14: =SETTINGS!C13 -> 0.98
B16: Actual Duration = | C16: (1 - rN) / (1 - r)

Sheet WBA
B2: ="Base Year +"&IF(SETTINGS!C15=1,SETTINGS!C16,"0")&" years: WBA (000)" -> Base Year +0 years: WBA (000)
C3: High Quarter Wages | G3: Total
B4: Base Period Wages | C4: =IF(SETTINGS!$C$15=1,SETTINGS!C22*(1+SETTINGS!$C$18)^SETTINGS!$C$16,SETTINGS!C22) -> 2500 | D4: =IF(SETTINGS!$C$15=1,SETTINGS!D22*(1+SETTINGS!$C$18)^SETTINGS!$C$16,SETTINGS!D22) -> 6500 | E4: =IF(SETTINGS!$C$15=1,SETTINGS!E22*(1+SETTINGS!$C$18)^SETTINGS!$C$16,SETTINGS!E22) -> 10500 | G4: Entitlement
B5: =IF(SETTINGS!$C$15=1,SETTINGS!B23*(1+SETTINGS!$C$18)^SETTINGS!$C$16,SETTINGS!B23) -> 6500 | C5: =IF(SETTINGS!C23>0,C$11,"-") -> 96.153846 | D5: =IF(SETTINGS!D23>0,D$11,"-") -> 150 | E5: =IF(SETTINGS!E23>0,E$11,"-") -> - | G5: ='FIRST PAYMENTS'!G5 -> 2166.6667
B6: =IF(SETTINGS!$C$15=1,SETTINGS!B24*(1+SETTINGS!$C$18)^SETTINGS!$C$16,SETTINGS!B24) -> 12500 | C6: =IF(SETTINGS!C24>0,C$11,"-") -> - | D6: =IF(SETTINGS!D24>0,D$11,"-") -> 150 | E6: =IF(SETTINGS!E24>0,E$11,"-") -> 150 | G6: ='FIRST PAYMENTS'!G6 -> 4166.6667
B7: =IF(SETTINGS!$C$15=1,SETTINGS!B25*(1+SETTINGS!$C$18)^SETTINGS!$C$16,SETTINGS!B25) -> 19000 | C7: =IF(SETTINGS!C25>0,C$11,"-") -> - | D7: =IF(SETTINGS!D25>0,D$11,"-") -> 150 | E7: =IF(SETTINGS!E25>0,E$11,"-") -> 150 | G7: ='FIRST PAYMENTS'!G7 -> 6333.3333
B8: =IF(SETTINGS!$C$15=1,SETTINGS!B26*(1+SETTINGS!$C$18)^SETTINGS!$C$16,SETTINGS!B26) -> 27000 | C8: =IF(SETTINGS!C26>0,C$11,"-") -> - | D8: =IF(SETTINGS!D26>0,D$11,"-") -> - | E8: =IF(SETTINGS!E26>0,E$11,"-") -> 150 | G8: ='FIRST PAYMENTS'!G8 -> 9000
B9: =IF(SETTINGS!$C$15=1,SETTINGS!B27*(1+SETTINGS!$C$18)^SETTINGS!$C$16,SETTINGS!B27) -> 36000 | C9: =IF(SETTINGS!C27>0,C$11,"-") -> - | D9: =IF(SETTINGS!D27>0,D$11,"-") -> - | E9: =IF(SETTINGS!E27>0,E$11,"-") -> 150 | G9: ='FIRST PAYMENTS'!G9 -> 12000
B11: WBA | C11: ='FIRST PAYMENTS'!C11 -> 96.153846 | D11: ='FIRST PAYMENTS'!D11 -> 150 | E11: ='FIRST PAYMENTS'!E11 -> 150

Sheet BENEFITS
B2: ="Base Year +"&IF(SETTINGS!C15=1,SETTINGS!C16,"0")&" years: Benefits Paid (000)" -> Base Year +0 years: Benefits Paid (000)
C3: High Quarter Wages | G3: Total
B4: Base Period Wages | C4: =IF(SETTINGS!$C$15=1,SETTINGS!C22*(1+SETTINGS!$C$18)^SETTINGS!$C$16,SETTINGS!C22) -> 2500 | D4: =IF(SETTINGS!$C$15=1,SETTINGS!D22*(1+SETTINGS!$C$18)^SETTINGS!$C$16,SETTINGS!D22) -> 6500 | E4: =IF(SETTINGS!$C$15=1,SETTINGS!E22*(1+SETTINGS!$C$18)^SETTINGS!$C$16,SETTINGS!E22) -> 10500 | G4: Entitlement
B5: =IF(SETTINGS!$C$15=1,SETTINGS!B23*(1+SETTINGS!$C$18)^SETTINGS!$C$16,SETTINGS!B23) -> 6500 | C5: =IF(SETTINGS!C23>0,ROUND('FIRST PAYMENTS'!C5*'AVERAGE DURATION'!C5*WBA!C5,0),"-") -> 140769 | D5: =IF(SETTINGS!D23>0,ROUND('FIRST PAYMENTS'!D5*'AVERAGE DURATION'!D5*WBA!D5,0),"-") -> 95250 | E5: =IF(SETTINGS!E23>0,ROUND('FIRST PAYMENTS'!E5*'AVERAGE DURATION'!E5*WBA!E5,0),"-") -> - | G5: ='FIRST PAYMENTS'!G5 -> 2166.6667
B6: =IF(SETTINGS!$C$15=1,SETTINGS!B24*(1+SETTINGS!$C$18)^SETTINGS!$C$16,SETTINGS!B24) -> 12500 | C6: =IF(SETTINGS!C24>0,ROUND('FIRST PAYMENTS'!C6*'AVERAGE DURATION'!C6*WBA!C6,0),"-") -> - | D6: =IF(SETTINGS!D24>0,ROUND('FIRST PAYMENTS'!D6*'AVERAGE DURATION'!D6*WBA!D6,0),"-") -> 183600 | E6: =IF(SETTINGS!E24>0,ROUND('FIRST PAYMENTS'!E6*'AVERAGE DURATION'!E6*WBA!E6,0),"-") -> 61200 | G6: ='FIRST PAYMENTS'!G6 -> 4166.6667
B7: =IF(SETTINGS!$C$15=1,SETTINGS!B25*(1+SETTINGS!$C$18)^SETTINGS!$C$16,SETTINGS!B25) -> 19000 | C7: =IF(SETTINGS!C25>0,ROUND('FIRST PAYMENTS'!C7*'AVERAGE DURATION'!C7*WBA!C7,0),"-") -> - | D7: =IF(SETTINGS!D25>0,ROUND('FIRST PAYMENTS'!D7*'AVERAGE DURATION'!D7*WBA!D7,0),"-") -> 122400 | E7: =IF(SETTINGS!E25>0,ROUND('FIRST PAYMENTS'!E7*'AVERAGE DURATION'!E7*WBA!E7,0),"-") -> 91800 | G7: ='FIRST PAYMENTS'!G7 -> 6333.3333
B8: =IF(SETTINGS!$C$15=1,SETTINGS!B26*(1+SETTINGS!$C$18)^SETTINGS!$C$16,SETTINGS!B26) -> 27000 | C8: =IF(SETTINGS!C26>0,ROUND('FIRST PAYMENTS'!C8*'AVERAGE DURATION'!C8*WBA!C8,0),"-") -> - | D8: =IF(SETTINGS!D26>0,ROUND('FIRST PAYMENTS'!D8*'AVERAGE DURATION'!D8*WBA!D8,0),"-") -> - | E8: =IF(SETTINGS!E26>0,ROUND('FIRST PAYMENTS'!E8*'AVERAGE DURATION'!E8*WBA!E8,0),"-") -> 153000 | G8: ='FIRST PAYMENTS'!G8 -> 9000
B9: =IF(SETTINGS!$C$15=1,SETTINGS!B27*(1+SETTINGS!$C$18)^SETTINGS!$C$16,SETTINGS!B27) -> 36000 | C9: =IF(SETTINGS!C27>0,ROUND('FIRST PAYMENTS'!C9*'AVERAGE DURATION'!C9*WBA!C9,0),"-") -> - | D9: =IF(SETTINGS!D27>0,ROUND('FIRST PAYMENTS'!D9*'AVERAGE DURATION'!D9*WBA!D9,0),"-") -> - | E9: =IF(SETTINGS!E27>0,ROUND('FIRST PAYMENTS'!E9*'AVERAGE DURATION'!E9*WBA!E9,0),"-") -> 244800 | G9: ='FIRST PAYMENTS'!G9 -> 12000
B11: WBA | C11: ='FIRST PAYMENTS'!C11 -> 96.153846 | D11: ='FIRST PAYMENTS'!D11 -> 150 | E11: ='FIRST PAYMENTS'!E11 -> 150
B15: Total Benefit Cost
B16: =SUM(C5:E9) -> 1092819

Sheet SUMMARY
B2: Summary
B4: Benefits Paid | C4: =SUM(BENEFITS!C5:E9) -> 1092819 | D4: ($millions)
B5: First Payments | C5: =SUM('FIRST PAYMENTS'!C5:E9) -> 410 | D5: (000)
B6: Weeks Compensated | C6: =SUMPRODUCT('FIRST PAYMENTS'!C5:E9,'AVERAGE DURATION'!C5:E9) -> 7811 | D6: (000)
B7: AWBA | C7: =C4/C6 -> 139.90769
B8: Average Duration | C8: =C6/C5 -> 19.05122 | D8: Weeks
B17: Comparison Table
C18: Current Law | D18: Proposed Law | E18: % Change
B19: Benefits Paid | C19: =COMPUTE!C59 -> 0 | D19: =C4 -> 1092819 | E19: =ROUND((D19-C19)/C19,3) -> #DIV/0!
B20: First Payments | C20: =COMPUTE!C60 -> 410 | D20: =C5 -> 410 | E20: =ROUND((D20-C20)/C20,3) -> 0
B21: Weeks Compensated | C21: =COMPUTE!C61 -> 0 | D21: =C6 -> 7811 | E21: =ROUND((D21-C21)/C21,3) -> #DIV/0!
B22: AWBA | C22: =COMPUTE!C62 -> #DIV/0! | D22: =C7 -> 139.90769 | E22: =ROUND((D22-C22)/C22,3) -> #DIV/0!
B23: Average Duration | C23: =COMPUTE!C63 -> 0 | D23: =C8 -> 19.05122 | E23: =ROUND((D23-C23)/C23,3) -> #DIV/0!
